Workbook
Name TitleRegion1..K21: 'Data Input'!$A$10
Name TitleRegion2..L15: 'PPG-1'!$A$4
Name TitleRegion3...J28: 'PPG-1'!$A$18
Name TitleRegion4..I41: 'PPG-1'!$A$31
Name TitleRegion5..J15: PI!$A$4
Name TitleRegion7..J29: PI!$A$18
Name TitleRegion8..K17: '80% Rule'!$A$5
Name TitleRegion9..K18: '80% Rule - User Defined'!$A$6

Sheet Introduction
A1: Disproportionate Impact Calculator for ESL Course Placement (DIC-ESL)
A2: Last Updated 8/07/2025 by California Community Colleges Chancellor's Office
A3: Introduction
A4: This Disproportionate Impact Calculator for ESL Course Placement (DIC-ESL) is designed for situations where the outcome variable has more than two categories (polytomous outcomes). Specifically, it addresses the unique challenge of evaluating the disproportionate impact (DI) of ESL course placement recommendations on various cultural and linguistic subgroups. This DIC-ESL is a modified version of the Disproportionate Impact Calculator developed by the Data Disaggregation Guided Pathways Team (Craig Hayward, Carolyn Holcroft, Jared Lessard, and Giovanni Sosa). Users analyzing disproportionate impact with a two-category outcome (dichotomous outcome) across multiple cohorts should use the original calculator developed by the Data Disaggregation Guided Pathways Team, not this version. Before using this DIC-ESL, users should consult the reference document, "Using Disproportionate Impact Methods to Identify Equity Gaps" (Sosa, 2022), for a detailed explanation of the DI methods implemented in this tool: Percentage Point Gap Minus One (PPG-1), Proportionality Index (PI), and the 80% Rule. This document also outlines the limitations of each index and provides guidance on proper interpretation.
A5: Sosa, G. (2022, July). Using disproportionate impact methods to identify equity gaps (Rev. ed.). Research & Planning Group for California Community Colleges. Originally released in July 2017.
A6: https://rpgroup.org/Portals/0/Documents/Projects/MultipleMeasures/AB705_Workshops/DisproportionateImpactGuide_July2022.pdf
A7: How to Use this Disproportionate Impact Calculator for ESL Course Placement (DIC-ESL)
A8: Click on the Data Input tab and follow the directions to enter the raw data. Three Disproportionate Impact (DI) methods - Percentage Point Gap Minus One (PPG-1), Proportionality Index (PI), and the 80% Rule - will be automatically implemented after you enter the raw data. Please review all three DI results by clicking on the respective result tab (PPG-1, PI, and 80% Rule). These three methods may result in different DI flags, please refer to the guidance (Sosa, 2022) and/or consult your research office for interpretation. The last tab, “80% Rule - User Defined,” is reserved for instances when the user needs to have the flexibility to define the placement rate references other than the highest placement rates. This may be due to the college having a historical/conventional reference group or if the sample size of the group with the highest placement is too small. Please ignore the last tab if you do not need to alter the referenced placement rates. Sample sizes influence the stability of point estimates of placement rates and DI indices (PPG-1, PI, and 80% cutoff point). Analyses with small subgroups (e.g., less than 10 students) are discouraged (Sosa, 2022). Ideally, subgroups should contain 30 or more students, and results from those with fewer than 50 require cautious interpretation. To achieve adequate subgroup sizes, researchers may consider augmenting data collection or aggregating data across multiple years. Conversely, the PPG-1 method exhibits heightened sensitivity with exceptionally large sample sizes (e.g., exceeding 1600 students). If PPG-1 flags disproportionate impact in such instances, a thorough evaluation of the practical significance of the observed placement rate differences is crucial. Please refer to Sosa (2022) for a detailed discussion of the impact of sample size on DI analyses. This workbook can be unprotected by selecting Unprotect Sheet from the Review menu and entering the code "0000." However, to maintain the integrity of the calculations, users should avoid altering the workbook unless absolutely necessary.

Sheet Data Input
A1: Input ESL Course Placement Counts
A2: Directions:
A3: Step 1 - Identify Student Subgroups: In Column A (Cell A12 through A21), list up to ten distinct student subgroups.
A4: Step 2 - List ESL Courses: In Row 10 (Cell B10 through I10), list up to eight different ESL courses.
A5: Step 3 - Record Placement Counts: In the cells where the student subgroups intersect with the ESL courses (Cell B12 through I21), enter the number of students from each subgroup placed in each respective course.
A6: Step 4 - Review Sample Size Flag in Column K. "Small Sample" indicates n<=30 and "Large Sample" indicates n>1600.
A7: Step 5 - Review the disproportionate impact (DI) results by clicking on the respective tab: PPG-1, PI, and 80% Rule.
A8: ESL Course Placement Counts by Student Subgroup
B9: ESL Course
A10: Student Subgroup | B10: [ESL #1] | C10: [ESL #2] | D10: [ESL #3] | E10: [ESL #4] | F10: [ESL #5] | G10: [ESL #6] | H10: [ESL #7] | I10: [ESL #8] | J10: n | K10: Sample Size Flag
B11: 1 | C11: 2 | D11: 3 | E11: 4 | F11: 4 | G11: 3 | H11: 2 | I11: 1
A12: [Subgroup 1] | J12: =SUM(B12:I12) -> 0 | K12: =IF(SUM(B12:I12)>1600,"Large Sample",IF(SUM(B12:I12)>30,"", IF(SUM(B12:I12)=0,"", "Small Sample")))
A13: [Subgroup 2] | J13: =SUM(B13:I13) -> 0 | K13: =IF(SUM(B13:I13)>1600,"Large Sample",IF(SUM(B13:I13)>30,"", IF(SUM(B13:I13)=0,"", "Small Sample")))
A14: [Subgroup 3] | J14: =SUM(B14:I14) -> 0 | K14: =IF(SUM(B14:I14)>1600,"Large Sample",IF(SUM(B14:I14)>30,"", IF(SUM(B14:I14)=0,"", "Small Sample")))
A15: [Subgroup 4] | J15: =SUM(B15:I15) -> 0 | K15: =IF(SUM(B15:I15)>1600,"Large Sample",IF(SUM(B15:I15)>30,"", IF(SUM(B15:I15)=0,"", "Small Sample")))
A16: [Subgroup 5] | J16: =SUM(B16:I16) -> 0 | K16: =IF(SUM(B16:I16)>1600,"Large Sample",IF(SUM(B16:I16)>30,"", IF(SUM(B16:I16)=0,"", "Small Sample")))
A17: [Subgroup 6] | J17: =SUM(B17:I17) -> 0 | K17: =IF(SUM(B17:I17)>1600,"Large Sample",IF(SUM(B17:I17)>30,"", IF(SUM(B17:I17)=0,"", "Small Sample")))
A18: [Subgroup 7] | J18: =SUM(B18:I18) -> 0 | K18: =IF(SUM(B18:I18)>1600,"Large Sample",IF(SUM(B18:I18)>30,"", IF(SUM(B18:I18)=0,"", "Small Sample")))
A19: [Subgroup 8] | J19: =SUM(B19:I19) -> 0 | K19: =IF(SUM(B19:I19)>1600,"Large Sample",IF(SUM(B19:I19)>30,"", IF(SUM(B19:I19)=0,"", "Small Sample")))
A20: [Subgroup 9] | J20: =SUM(B20:I20) -> 0 | K20: =IF(SUM(B20:I20)>1600,"Large Sample",IF(SUM(B20:I20)>30,"", IF(SUM(B20:I20)=0,"", "Small Sample")))
A21: [Subgroup 10] | J21: =SUM(B21:I21) -> 0 | K21: =IF(SUM(B21:I21)>1600,"Large Sample",IF(SUM(B21:I21)>30,"", IF(SUM(B21:I21)=0,"", "Small Sample")))

Sheet PPG-1
A1: Percentage Point Gap Minus One (PPG-1)
A2: The 95% Margin of Error (MOE) is used to determine the presence of Disproportionate Impact (DI) using the Percentage Point Gap method (PPG-1). - Gaps smaller than the negative MOE thresholds are highlighted in red with an X, indicating potential DI against the subgroup, suggesting a lower placement rate in the respective course. Column K (Gap Smaller) also lists ESL Courses that are in this category. - Gaps larger than the negative MOE thresholds are highlighted in green with a ✓ , indicating potential DI in favor of the subgroup, suggesting a higher placement rate in the respective course. Column L (Gap Larger) also lists ESL Courses that are in this category. - The PPG-1 method is affected by sample size. Column J (cells J6 through J15) contains sample size flags: "Small Sample" indicates n<=30, and "Large Sample" indicates n>1600. - When the sample size is small, the results can be unstable. - Conversely, when the sample size is very large, PPG-1 can over-identify DI; thus the actual placement rate differences should be carefully examined.
A3: PPG-1 | B3: ESL Course
A4: Student Subgroup | B4: =B18 -> [ESL #1] | C4: =C18 -> [ESL #2] | D4: =D18 -> [ESL #3] | E4: =E18 -> [ESL #4] | F4: =F18 -> [ESL #5] | G4: =G18 -> [ESL #6] | H4: =H18 -> [ESL #7] | I4: =I18 -> [ESL #8] | J4: Sample Size Flag | K4: Gap Smaller | L4: Gap Larger
A5: Row Intentionally Left Blank
A6: =A19 -> [Subgroup 1] | B6: =IF(SUM('Data Input'!$J12)>0, B19-(SUM('Data Input'!B$12:B$21)-'Data Input'!B12)/(SUM('PPG-1'!$J$19:$J$28)-$J19), "na") -> na | C6: =IF(SUM('Data Input'!$J12)>0, C19-(SUM('Data Input'!C$12:C$21)-'Data Input'!C12)/(SUM('PPG-1'!$J$19:$J$28)-$J19), "na") -> na | D6: =IF(SUM('Data Input'!$J12)>0, D19-(SUM('Data Input'!D$12:D$21)-'Data Input'!D12)/(SUM('PPG-1'!$J$19:$J$28)-$J19), "na") -> na | E6: =IF(SUM('Data Input'!$J12)>0, E19-(SUM('Data Input'!E$12:E$21)-'Data Input'!E12)/(SUM('PPG-1'!$J$19:$J$28)-$J19), "na") -> na | F6: =IF(SUM('Data Input'!$J12)>0, F19-(SUM('Data Input'!F$12:F$21)-'Data Input'!F12)/(SUM('PPG-1'!$J$19:$J$28)-$J19), "na") -> na | G6: =IF(SUM('Data Input'!$J12)>0, G19-(SUM('Data Input'!G$12:G$21)-'Data Input'!G12)/(SUM('PPG-1'!$J$19:$J$28)-$J19), "na") -> na | H6: =IF(SUM('Data Input'!$J12)>0, H19-(SUM('Data Input'!H$12:H$21)-'Data Input'!H12)/(SUM('PPG-1'!$J$19:$J$28)-$J19), "na") -> na | I6: =IF(SUM('Data Input'!$J12)>0, I19-(SUM('Data Input'!I$12:I$21)-'Data Input'!I12)/(SUM('PPG-1'!$J$19:$J$28)-$J19), "na") -> na | J6: ='Data Input'!K12 | K6: {=_xlfn.TEXTJOIN(", ", TRUE, IF(B6:I6 < -B32:I32, B4:I4, ""))} -> #VALUE! | L6: {=_xlfn.TEXTJOIN(", ", TRUE, IF(B6:I6 > B32:I32, B4:I4, ""))} -> #VALUE!
A7: =A20 -> [Subgroup 2] | B7: =IF(SUM('Data Input'!$J13)>0, B20-(SUM('Data Input'!B$12:B$21)-'Data Input'!B13)/(SUM('PPG-1'!$J$19:$J$28)-$J20), "na") -> na | C7: =IF(SUM('Data Input'!$J13)>0, C20-(SUM('Data Input'!C$12:C$21)-'Data Input'!C13)/(SUM('PPG-1'!$J$19:$J$28)-$J20), "na") -> na | D7: =IF(SUM('Data Input'!$J13)>0, D20-(SUM('Data Input'!D$12:D$21)-'Data Input'!D13)/(SUM('PPG-1'!$J$19:$J$28)-$J20), "na") -> na | E7: =IF(SUM('Data Input'!$J13)>0, E20-(SUM('Data Input'!E$12:E$21)-'Data Input'!E13)/(SUM('PPG-1'!$J$19:$J$28)-$J20), "na") -> na | F7: =IF(SUM('Data Input'!$J13)>0, F20-(SUM('Data Input'!F$12:F$21)-'Data Input'!F13)/(SUM('PPG-1'!$J$19:$J$28)-$J20), "na") -> na | G7: =IF(SUM('Data Input'!$J13)>0, G20-(SUM('Data Input'!G$12:G$21)-'Data Input'!G13)/(SUM('PPG-1'!$J$19:$J$28)-$J20), "na") -> na | H7: =IF(SUM('Data Input'!$J13)>0, H20-(SUM('Data Input'!H$12:H$21)-'Data Input'!H13)/(SUM('PPG-1'!$J$19:$J$28)-$J20), "na") -> na | I7: =IF(SUM('Data Input'!$J13)>0, I20-(SUM('Data Input'!I$12:I$21)-'Data Input'!I13)/(SUM('PPG-1'!$J$19:$J$28)-$J20), "na") -> na | J7: ='Data Input'!K13 | K7: {=_xlfn.TEXTJOIN(", ", TRUE, IF(B7:I7 < -B33:I33, B4:I4, ""))} -> #VALUE! | L7: {=_xlfn.TEXTJOIN(", ", TRUE, IF(B7:I7 > B33:I33, B4:I4, ""))} -> #VALUE!
A8: =A21 -> [Subgroup 3] | B8: =IF(SUM('Data Input'!$J14)>0, B21-(SUM('Data Input'!B$12:B$21)-'Data Input'!B14)/(SUM('PPG-1'!$J$19:$J$28)-$J21), "na") -> na | C8: =IF(SUM('Data Input'!$J14)>0, C21-(SUM('Data Input'!C$12:C$21)-'Data Input'!C14)/(SUM('PPG-1'!$J$19:$J$28)-$J21), "na") -> na | D8: =IF(SUM('Data Input'!$J14)>0, D21-(SUM('Data Input'!D$12:D$21)-'Data Input'!D14)/(SUM('PPG-1'!$J$19:$J$28)-$J21), "na") -> na | E8: =IF(SUM('Data Input'!$J14)>0, E21-(SUM('Data Input'!E$12:E$21)-'Data Input'!E14)/(SUM('PPG-1'!$J$19:$J$28)-$J21), "na") -> na | F8: =IF(SUM('Data Input'!$J14)>0, F21-(SUM('Data Input'!F$12:F$21)-'Data Input'!F14)/(SUM('PPG-1'!$J$19:$J$28)-$J21), "na") -> na | G8: =IF(SUM('Data Input'!$J14)>0, G21-(SUM('Data Input'!G$12:G$21)-'Data Input'!G14)/(SUM('PPG-1'!$J$19:$J$28)-$J21), "na") -> na | H8: =IF(SUM('Data Input'!$J14)>0, H21-(SUM('Data Input'!H$12:H$21)-'Data Input'!H14)/(SUM('PPG-1'!$J$19:$J$28)-$J21), "na") -> na | I8: =IF(SUM('Data Input'!$J14)>0, I21-(SUM('Data Input'!I$12:I$21)-'Data Input'!I14)/(SUM('PPG-1'!$J$19:$J$28)-$J21), "na") -> na | J8: ='Data Input'!K14 | K8: {=_xlfn.TEXTJOIN(", ", TRUE, IF(B8:I8 < -B34:I34, B4:I4, ""))} -> #VALUE! | L8: {=_xlfn.TEXTJOIN(", ", TRUE, IF(B8:I8 > B34:I34, B4:I4, ""))} -> #VALUE!
A9: =A22 -> [Subgroup 4] | B9: =IF(SUM('Data Input'!$J15)>0, B22-(SUM('Data Input'!B$12:B$21)-'Data Input'!B15)/(SUM('PPG-1'!$J$19:$J$28)-$J22), "na") -> na | C9: =IF(SUM('Data Input'!$J15)>0, C22-(SUM('Data Input'!C$12:C$21)-'Data Input'!C15)/(SUM('PPG-1'!$J$19:$J$28)-$J22), "na") -> na | D9: =IF(SUM('Data Input'!$J15)>0, D22-(SUM('Data Input'!D$12:D$21)-'Data Input'!D15)/(SUM('PPG-1'!$J$19:$J$28)-$J22), "na") -> na | E9: =IF(SUM('Data Input'!$J15)>0, E22-(SUM('Data Input'!E$12:E$21)-'Data Input'!E15)/(SUM('PPG-1'!$J$19:$J$28)-$J22), "na") -> na | F9: =IF(SUM('Data Input'!$J15)>0, F22-(SUM('Data Input'!F$12:F$21)-'Data Input'!F15)/(SUM('PPG-1'!$J$19:$J$28)-$J22), "na") -> na | G9: =IF(SUM('Data Input'!$J15)>0, G22-(SUM('Data Input'!G$12:G$21)-'Data Input'!G15)/(SUM('PPG-1'!$J$19:$J$28)-$J22), "na") -> na | H9: =IF(SUM('Data Input'!$J15)>0, H22-(SUM('Data Input'!H$12:H$21)-'Data Input'!H15)/(SUM('PPG-1'!$J$19:$J$28)-$J22), "na") -> na | I9: =IF(SUM('Data Input'!$J15)>0, I22-(SUM('Data Input'!I$12:I$21)-'Data Input'!I15)/(SUM('PPG-1'!$J$19:$J$28)-$J22), "na") -> na | J9: ='Data Input'!K15 | K9: {=_xlfn.TEXTJOIN(", ", TRUE, IF(B9:I9 < -B35:I35, B4:I4, ""))} -> #VALUE! | L9: {=_xlfn.TEXTJOIN(", ", TRUE, IF(B9:I9 > B35:I35, B4:I4, ""))} -> #VALUE!
A10: =A23 -> [Subgroup 5] | B10: =IF(SUM('Data Input'!$J16)>0, B23-(SUM('Data Input'!B$12:B$21)-'Data Input'!B16)/(SUM('PPG-1'!$J$19:$J$28)-$J23), "na") -> na | C10: =IF(SUM('Data Input'!$J16)>0, C23-(SUM('Data Input'!C$12:C$21)-'Data Input'!C16)/(SUM('PPG-1'!$J$19:$J$28)-$J23), "na") -> na | D10: =IF(SUM('Data Input'!$J16)>0, D23-(SUM('Data Input'!D$12:D$21)-'Data Input'!D16)/(SUM('PPG-1'!$J$19:$J$28)-$J23), "na") -> na | E10: =IF(SUM('Data Input'!$J16)>0, E23-(SUM('Data Input'!E$12:E$21)-'Data Input'!E16)/(SUM('PPG-1'!$J$19:$J$28)-$J23), "na") -> na | F10: =IF(SUM('Data Input'!$J16)>0, F23-(SUM('Data Input'!F$12:F$21)-'Data Input'!F16)/(SUM('PPG-1'!$J$19:$J$28)-$J23), "na") -> na | G10: =IF(SUM('Data Input'!$J16)>0, G23-(SUM('Data Input'!G$12:G$21)-'Data Input'!G16)/(SUM('PPG-1'!$J$19:$J$28)-$J23), "na") -> na | H10: =IF(SUM('Data Input'!$J16)>0, H23-(SUM('Data Input'!H$12:H$21)-'Data Input'!H16)/(SUM('PPG-1'!$J$19:$J$28)-$J23), "na") -> na | I10: =IF(SUM('Data Input'!$J16)>0, I23-(SUM('Data Input'!I$12:I$21)-'Data Input'!I16)/(SUM('PPG-1'!$J$19:$J$28)-$J23), "na") -> na | J10: ='Data Input'!K16 | K10: {=_xlfn.TEXTJOIN(", ", TRUE, IF(B10:I10 < -B36:I36, B4:I4, ""))} -> #VALUE! | L10: {=_xlfn.TEXTJOIN(", ", TRUE, IF(B10:I10 > B36:I36, B4:I4, ""))} -> #VALUE!
A11: =A24 -> [Subgroup 6] | B11: =IF(SUM('Data Input'!$J17)>0, B24-(SUM('Data Input'!B$12:B$21)-'Data Input'!B17)/(SUM('PPG-1'!$J$19:$J$28)-$J24), "na") -> na | C11: =IF(SUM('Data Input'!$J17)>0, C24-(SUM('Data Input'!C$12:C$21)-'Data Input'!C17)/(SUM('PPG-1'!$J$19:$J$28)-$J24), "na") -> na | D11: =IF(SUM('Data Input'!$J17)>0, D24-(SUM('Data Input'!D$12:D$21)-'Data Input'!D17)/(SUM('PPG-1'!$J$19:$J$28)-$J24), "na") -> na | E11: =IF(SUM('Data Input'!$J17)>0, E24-(SUM('Data Input'!E$12:E$21)-'Data Input'!E17)/(SUM('PPG-1'!$J$19:$J$28)-$J24), "na") -> na | F11: =IF(SUM('Data Input'!$J17)>0, F24-(SUM('Data Input'!F$12:F$21)-'Data Input'!F17)/(SUM('PPG-1'!$J$19:$J$28)-$J24), "na") -> na | G11: =IF(SUM('Data Input'!$J17)>0, G24-(SUM('Data Input'!G$12:G$21)-'Data Input'!G17)/(SUM('PPG-1'!$J$19:$J$28)-$J24), "na") -> na | H11: =IF(SUM('Data Input'!$J17)>0, H24-(SUM('Data Input'!H$12:H$21)-'Data Input'!H17)/(SUM('PPG-1'!$J$19:$J$28)-$J24), "na") -> na | I11: =IF(SUM('Data Input'!$J17)>0, I24-(SUM('Data Input'!I$12:I$21)-'Data Input'!I17)/(SUM('PPG-1'!$J$19:$J$28)-$J24), "na") -> na | J11: ='Data Input'!K17 | K11: {=_xlfn.TEXTJOIN(", ", TRUE, IF(B11:I11 < -B37:I37, B4:I4, ""))} -> #VALUE! | L11: {=_xlfn.TEXTJOIN(", ", TRUE, IF(B11:I11 > B37:I37, B4:I4, ""))} -> #VALUE!
A12: =A25 -> [Subgroup 7] | B12: =IF(SUM('Data Input'!$J18)>0, B25-(SUM('Data Input'!B$12:B$21)-'Data Input'!B18)/(SUM('PPG-1'!$J$19:$J$28)-$J25), "na") -> na | C12: =IF(SUM('Data Input'!$J18)>0, C25-(SUM('Data Input'!C$12:C$21)-'Data Input'!C18)/(SUM('PPG-1'!$J$19:$J$28)-$J25), "na") -> na | D12: =IF(SUM('Data Input'!$J18)>0, D25-(SUM('Data Input'!D$12:D$21)-'Data Input'!D18)/(SUM('PPG-1'!$J$19:$J$28)-$J25), "na") -> na | E12: =IF(SUM('Data Input'!$J18)>0, E25-(SUM('Data Input'!E$12:E$21)-'Data Input'!E18)/(SUM('PPG-1'!$J$19:$J$28)-$J25), "na") -> na | F12: =IF(SUM('Data Input'!$J18)>0, F25-(SUM('Data Input'!F$12:F$21)-'Data Input'!F18)/(SUM('PPG-1'!$J$19:$J$28)-$J25), "na") -> na | G12: =IF(SUM('Data Input'!$J18)>0, G25-(SUM('Data Input'!G$12:G$21)-'Data Input'!G18)/(SUM('PPG-1'!$J$19:$J$28)-$J25), "na") -> na | H12: =IF(SUM('Data Input'!$J18)>0, H25-(SUM('Data Input'!H$12:H$21)-'Data Input'!H18)/(SUM('PPG-1'!$J$19:$J$28)-$J25), "na") -> na | I12: =IF(SUM('Data Input'!$J18)>0, I25-(SUM('Data Input'!I$12:I$21)-'Data Input'!I18)/(SUM('PPG-1'!$J$19:$J$28)-$J25), "na") -> na | J12: ='Data Input'!K18 | K12: {=_xlfn.TEXTJOIN(", ", TRUE, IF(B12:I12 < -B38:I38, B4:I4, ""))} -> #VALUE! | L12: {=_xlfn.TEXTJOIN(", ", TRUE, IF(B12:I12 > B38:I38, B4:I4, ""))} -> #VALUE!
A13: =A26 -> [Subgroup 8] | B13: =IF(SUM('Data Input'!$J19)>0, B26-(SUM('Data Input'!B$12:B$21)-'Data Input'!B19)/(SUM('PPG-1'!$J$19:$J$28)-$J26), "na") -> na | C13: =IF(SUM('Data Input'!$J19)>0, C26-(SUM('Data Input'!C$12:C$21)-'Data Input'!C19)/(SUM('PPG-1'!$J$19:$J$28)-$J26), "na") -> na | D13: =IF(SUM('Data Input'!$J19)>0, D26-(SUM('Data Input'!D$12:D$21)-'Data Input'!D19)/(SUM('PPG-1'!$J$19:$J$28)-$J26), "na") -> na | E13: =IF(SUM('Data Input'!$J19)>0, E26-(SUM('Data Input'!E$12:E$21)-'Data Input'!E19)/(SUM('PPG-1'!$J$19:$J$28)-$J26), "na") -> na | F13: =IF(SUM('Data Input'!$J19)>0, F26-(SUM('Data Input'!F$12:F$21)-'Data Input'!F19)/(SUM('PPG-1'!$J$19:$J$28)-$J26), "na") -> na | G13: =IF(SUM('Data Input'!$J19)>0, G26-(SUM('Data Input'!G$12:G$21)-'Data Input'!G19)/(SUM('PPG-1'!$J$19:$J$28)-$J26), "na") -> na | H13: =IF(SUM('Data Input'!$J19)>0, H26-(SUM('Data Input'!H$12:H$21)-'Data Input'!H19)/(SUM('PPG-1'!$J$19:$J$28)-$J26), "na") -> na | I13: =IF(SUM('Data Input'!$J19)>0, I26-(SUM('Data Input'!I$12:I$21)-'Data Input'!I19)/(SUM('PPG-1'!$J$19:$J$28)-$J26), "na") -> na | J13: ='Data Input'!K19 | K13: {=_xlfn.TEXTJOIN(", ", TRUE, IF(B13:I13 < -B39:I39, B4:I4, ""))} -> #VALUE! | L13: {=_xlfn.TEXTJOIN(", ", TRUE, IF(B13:I13 > B39:I39, B4:I4, ""))} -> #VALUE!
A14: =A27 -> [Subgroup 9] | B14: =IF(SUM('Data Input'!$J20)>0, B27-(SUM('Data Input'!B$12:B$21)-'Data Input'!B20)/(SUM('PPG-1'!$J$19:$J$28)-$J27), "na") -> na | C14: =IF(SUM('Data Input'!$J20)>0, C27-(SUM('Data Input'!C$12:C$21)-'Data Input'!C20)/(SUM('PPG-1'!$J$19:$J$28)-$J27), "na") -> na | D14: =IF(SUM('Data Input'!$J20)>0, D27-(SUM('Data Input'!D$12:D$21)-'Data Input'!D20)/(SUM('PPG-1'!$J$19:$J$28)-$J27), "na") -> na | E14: =IF(SUM('Data Input'!$J20)>0, E27-(SUM('Data Input'!E$12:E$21)-'Data Input'!E20)/(SUM('PPG-1'!$J$19:$J$28)-$J27), "na") -> na | F14: =IF(SUM('Data Input'!$J20)>0, F27-(SUM('Data Input'!F$12:F$21)-'Data Input'!F20)/(SUM('PPG-1'!$J$19:$J$28)-$J27), "na") -> na | G14: =IF(SUM('Data Input'!$J20)>0, G27-(SUM('Data Input'!G$12:G$21)-'Data Input'!G20)/(SUM('PPG-1'!$J$19:$J$28)-$J27), "na") -> na | H14: =IF(SUM('Data Input'!$J20)>0, H27-(SUM('Data Input'!H$12:H$21)-'Data Input'!H20)/(SUM('PPG-1'!$J$19:$J$28)-$J27), "na") -> na | I14: =IF(SUM('Data Input'!$J20)>0, I27-(SUM('Data Input'!I$12:I$21)-'Data Input'!I20)/(SUM('PPG-1'!$J$19:$J$28)-$J27), "na") -> na | J14: ='Data Input'!K20 | K14: {=_xlfn.TEXTJOIN(", ", TRUE, IF(B14:I14 < -B40:I40, B4:I4, ""))} -> #VALUE! | L14: {=_xlfn.TEXTJOIN(", ", TRUE, IF(B14:I14 > B40:I40, B4:I4, ""))} -> #VALUE!
A15: =A28 -> [Subgroup 10] | B15: =IF(SUM('Data Input'!$J21)>0, B28-(SUM('Data Input'!B$12:B$21)-'Data Input'!B21)/(SUM('PPG-1'!$J$19:$J$28)-$J28), "na") -> na | C15: =IF(SUM('Data Input'!$J21)>0, C28-(SUM('Data Input'!C$12:C$21)-'Data Input'!C21)/(SUM('PPG-1'!$J$19:$J$28)-$J28), "na") -> na | D15: =IF(SUM('Data Input'!$J21)>0, D28-(SUM('Data Input'!D$12:D$21)-'Data Input'!D21)/(SUM('PPG-1'!$J$19:$J$28)-$J28), "na") -> na | E15: =IF(SUM('Data Input'!$J21)>0, E28-(SUM('Data Input'!E$12:E$21)-'Data Input'!E21)/(SUM('PPG-1'!$J$19:$J$28)-$J28), "na") -> na | F15: =IF(SUM('Data Input'!$J21)>0, F28-(SUM('Data Input'!F$12:F$21)-'Data Input'!F21)/(SUM('PPG-1'!$J$19:$J$28)-$J28), "na") -> na | G15: =IF(SUM('Data Input'!$J21)>0, G28-(SUM('Data Input'!G$12:G$21)-'Data Input'!G21)/(SUM('PPG-1'!$J$19:$J$28)-$J28), "na") -> na | H15: =IF(SUM('Data Input'!$J21)>0, H28-(SUM('Data Input'!H$12:H$21)-'Data Input'!H21)/(SUM('PPG-1'!$J$19:$J$28)-$J28), "na") -> na | I15: =IF(SUM('Data Input'!$J21)>0, I28-(SUM('Data Input'!I$12:I$21)-'Data Input'!I21)/(SUM('PPG-1'!$J$19:$J$28)-$J28), "na") -> na | J15: ='Data Input'!K21 | K15: {=_xlfn.TEXTJOIN(", ", TRUE, IF(B15:I15 < -B41:I41, B4:I4, ""))} -> #VALUE! | L15: {=_xlfn.TEXTJOIN(", ", TRUE, IF(B15:I15 > B41:I41, B4:I4, ""))} -> #VALUE!
A16: ESL Course Placement Rates by Student Subgroup
B17: ESL Course
A18: Student Subgroup | B18: ='Data Input'!B10 -> [ESL #1] | C18: ='Data Input'!C10 -> [ESL #2] | D18: ='Data Input'!D10 -> [ESL #3] | E18: ='Data Input'!E10 -> [ESL #4] | F18: ='Data Input'!F10 -> [ESL #5] | G18: ='Data Input'!G10 -> [ESL #6] | H18: ='Data Input'!H10 -> [ESL #7] | I18: ='Data Input'!I10 -> [ESL #8] | J18: n
A19: ='Data Input'!A12 -> [Subgroup 1] | B19: =IF(SUM('Data Input'!$J12)>0,'Data Input'!B12/SUM('Data Input'!$B12:$I12),"na") -> na | C19: =IF(SUM('Data Input'!$J12)>0,'Data Input'!C12/SUM('Data Input'!$B12:$I12),"na") -> na | D19: =IF(SUM('Data Input'!$J12)>0,'Data Input'!D12/SUM('Data Input'!$B12:$I12),"na") -> na | E19: =IF(SUM('Data Input'!$J12)>0,'Data Input'!E12/SUM('Data Input'!$B12:$I12),"na") -> na | F19: =IF(SUM('Data Input'!$J12)>0,'Data Input'!F12/SUM('Data Input'!$B12:$I12),"na") -> na | G19: =IF(SUM('Data Input'!$J12)>0,'Data Input'!G12/SUM('Data Input'!$B12:$I12),"na") -> na | H19: =IF(SUM('Data Input'!$J12)>0,'Data Input'!H12/SUM('Data Input'!$B12:$I12),"na") -> na | I19: =IF(SUM('Data Input'!$J12)>0,'Data Input'!I12/SUM('Data Input'!$B12:$I12),"na") -> na | J19: =SUM('Data Input'!B12:I12) -> 0
A20: ='Data Input'!A13 -> [Subgroup 2] | B20: =IF(SUM('Data Input'!$J13)>0,'Data Input'!B13/SUM('Data Input'!$B13:$I13),"na") -> na | C20: =IF(SUM('Data Input'!$J13)>0,'Data Input'!C13/SUM('Data Input'!$B13:$I13),"na") -> na | D20: =IF(SUM('Data Input'!$J13)>0,'Data Input'!D13/SUM('Data Input'!$B13:$I13),"na") -> na | E20: =IF(SUM('Data Input'!$J13)>0,'Data Input'!E13/SUM('Data Input'!$B13:$I13),"na") -> na | F20: =IF(SUM('Data Input'!$J13)>0,'Data Input'!F13/SUM('Data Input'!$B13:$I13),"na") -> na | G20: =IF(SUM('Data Input'!$J13)>0,'Data Input'!G13/SUM('Data Input'!$B13:$I13),"na") -> na | H20: =IF(SUM('Data Input'!$J13)>0,'Data Input'!H13/SUM('Data Input'!$B13:$I13),"na") -> na | I20: =IF(SUM('Data Input'!$J13)>0,'Data Input'!I13/SUM('Data Input'!$B13:$I13),"na") -> na | J20: =SUM('Data Input'!B13:I13) -> 0
A21: ='Data Input'!A14 -> [Subgroup 3] | B21: =IF(SUM('Data Input'!$J14)>0,'Data Input'!B14/SUM('Data Input'!$B14:$I14),"na") -> na | C21: =IF(SUM('Data Input'!$J14)>0,'Data Input'!C14/SUM('Data Input'!$B14:$I14),"na") -> na | D21: =IF(SUM('Data Input'!$J14)>0,'Data Input'!D14/SUM('Data Input'!$B14:$I14),"na") -> na | E21: =IF(SUM('Data Input'!$J14)>0,'Data Input'!E14/SUM('Data Input'!$B14:$I14),"na") -> na | F21: =IF(SUM('Data Input'!$J14)>0,'Data Input'!F14/SUM('Data Input'!$B14:$I14),"na") -> na | G21: =IF(SUM('Data Input'!$J14)>0,'Data Input'!G14/SUM('Data Input'!$B14:$I14),"na") -> na | H21: =IF(SUM('Data Input'!$J14)>0,'Data Input'!H14/SUM('Data Input'!$B14:$I14),"na") -> na | I21: =IF(SUM('Data Input'!$J14)>0,'Data Input'!I14/SUM('Data Input'!$B14:$I14),"na") -> na | J21: =SUM('Data Input'!B14:I14) -> 0
A22: ='Data Input'!A15 -> [Subgroup 4] | B22: =IF(SUM('Data Input'!$J15)>0,'Data Input'!B15/SUM('Data Input'!$B15:$I15),"na") -> na | C22: =IF(SUM('Data Input'!$J15)>0,'Data Input'!C15/SUM('Data Input'!$B15:$I15),"na") -> na | D22: =IF(SUM('Data Input'!$J15)>0,'Data Input'!D15/SUM('Data Input'!$B15:$I15),"na") -> na | E22: =IF(SUM('Data Input'!$J15)>0,'Data Input'!E15/SUM('Data Input'!$B15:$I15),"na") -> na | F22: =IF(SUM('Data Input'!$J15)>0,'Data Input'!F15/SUM('Data Input'!$B15:$I15),"na") -> na | G22: =IF(SUM('Data Input'!$J15)>0,'Data Input'!G15/SUM('Data Input'!$B15:$I15),"na") -> na | H22: =IF(SUM('Data Input'!$J15)>0,'Data Input'!H15/SUM('Data Input'!$B15:$I15),"na") -> na | I22: =IF(SUM('Data Input'!$J15)>0,'Data Input'!I15/SUM('Data Input'!$B15:$I15),"na") -> na | J22: =SUM('Data Input'!B15:I15) -> 0
A23: ='Data Input'!A16 -> [Subgroup 5] | B23: =IF(SUM('Data Input'!$J16)>0,'Data Input'!B16/SUM('Data Input'!$B16:$I16),"na") -> na | C23: =IF(SUM('Data Input'!$J16)>0,'Data Input'!C16/SUM('Data Input'!$B16:$I16),"na") -> na | D23: =IF(SUM('Data Input'!$J16)>0,'Data Input'!D16/SUM('Data Input'!$B16:$I16),"na") -> na | E23: =IF(SUM('Data Input'!$J16)>0,'Data Input'!E16/SUM('Data Input'!$B16:$I16),"na") -> na | F23: =IF(SUM('Data Input'!$J16)>0,'Data Input'!F16/SUM('Data Input'!$B16:$I16),"na") -> na | G23: =IF(SUM('Data Input'!$J16)>0,'Data Input'!G16/SUM('Data Input'!$B16:$I16),"na") -> na | H23: =IF(SUM('Data Input'!$J16)>0,'Data Input'!H16/SUM('Data Input'!$B16:$I16),"na") -> na | I23: =IF(SUM('Data Input'!$J16)>0,'Data Input'!I16/SUM('Data Input'!$B16:$I16),"na") -> na | J23: =SUM('Data Input'!B16:I16) -> 0
A24: ='Data Input'!A17 -> [Subgroup 6] | B24: =IF(SUM('Data Input'!$J17)>0,'Data Input'!B17/SUM('Data Input'!$B17:$I17),"na") -> na | C24: =IF(SUM('Data Input'!$J17)>0,'Data Input'!C17/SUM('Data Input'!$B17:$I17),"na") -> na | D24: =IF(SUM('Data Input'!$J17)>0,'Data Input'!D17/SUM('Data Input'!$B17:$I17),"na") -> na | E24: =IF(SUM('Data Input'!$J17)>0,'Data Input'!E17/SUM('Data Input'!$B17:$I17),"na") -> na | F24: =IF(SUM('Data Input'!$J17)>0,'Data Input'!F17/SUM('Data Input'!$B17:$I17),"na") -> na | G24: =IF(SUM('Data Input'!$J17)>0,'Data Input'!G17/SUM('Data Input'!$B17:$I17),"na") -> na | H24: =IF(SUM('Data Input'!$J17)>0,'Data Input'!H17/SUM('Data Input'!$B17:$I17),"na") -> na | I24: =IF(SUM('Data Input'!$J17)>0,'Data Input'!I17/SUM('Data Input'!$B17:$I17),"na") -> na | J24: =SUM('Data Input'!B17:I17) -> 0
A25: ='Data Input'!A18 -> [Subgroup 7] | B25: =IF(SUM('Data Input'!$J18)>0,'Data Input'!B18/SUM('Data Input'!$B18:$I18),"na") -> na | C25: =IF(SUM('Data Input'!$J18)>0,'Data Input'!C18/SUM('Data Input'!$B18:$I18),"na") -> na | D25: =IF(SUM('Data Input'!$J18)>0,'Data Input'!D18/SUM('Data Input'!$B18:$I18),"na") -> na | E25: =IF(SUM('Data Input'!$J18)>0,'Data Input'!E18/SUM('Data Input'!$B18:$I18),"na") -> na | F25: =IF(SUM('Data Input'!$J18)>0,'Data Input'!F18/SUM('Data Input'!$B18:$I18),"na") -> na | G25: =IF(SUM('Data Input'!$J18)>0,'Data Input'!G18/SUM('Data Input'!$B18:$I18),"na") -> na | H25: =IF(SUM('Data Input'!$J18)>0,'Data Input'!H18/SUM('Data Input'!$B18:$I18),"na") -> na | I25: =IF(SUM('Data Input'!$J18)>0,'Data Input'!I18/SUM('Data Input'!$B18:$I18),"na") -> na | J25: =SUM('Data Input'!B18:I18) -> 0
A26: ='Data Input'!A19 -> [Subgroup 8] | B26: =IF(SUM('Data Input'!$J19)>0,'Data Input'!B19/SUM('Data Input'!$B19:$I19),"na") -> na | C26: =IF(SUM('Data Input'!$J19)>0,'Data Input'!C19/SUM('Data Input'!$B19:$I19),"na") -> na | D26: =IF(SUM('Data Input'!$J19)>0,'Data Input'!D19/SUM('Data Input'!$B19:$I19),"na") -> na | E26: =IF(SUM('Data Input'!$J19)>0,'Data Input'!E19/SUM('Data Input'!$B19:$I19),"na") -> na | F26: =IF(SUM('Data Input'!$J19)>0,'Data Input'!F19/SUM('Data Input'!$B19:$I19),"na") -> na | G26: =IF(SUM('Data Input'!$J19)>0,'Data Input'!G19/SUM('Data Input'!$B19:$I19),"na") -> na | H26: =IF(SUM('Data Input'!$J19)>0,'Data Input'!H19/SUM('Data Input'!$B19:$I19),"na") -> na | I26: =IF(SUM('Data Input'!$J19)>0,'Data Input'!I19/SUM('Data Input'!$B19:$I19),"na") -> na | J26: =SUM('Data Input'!B19:I19) -> 0
A27: ='Data Input'!A20 -> [Subgroup 9] | B27: =IF(SUM('Data Input'!$J20)>0,'Data Input'!B20/SUM('Data Input'!$B20:$I20),"na") -> na | C27: =IF(SUM('Data Input'!$J20)>0,'Data Input'!C20/SUM('Data Input'!$B20:$I20),"na") -> na | D27: =IF(SUM('Data Input'!$J20)>0,'Data Input'!D20/SUM('Data Input'!$B20:$I20),"na") -> na | E27: =IF(SUM('Data Input'!$J20)>0,'Data Input'!E20/SUM('Data Input'!$B20:$I20),"na") -> na | F27: =IF(SUM('Data Input'!$J20)>0,'Data Input'!F20/SUM('Data Input'!$B20:$I20),"na") -> na | G27: =IF(SUM('Data Input'!$J20)>0,'Data Input'!G20/SUM('Data Input'!$B20:$I20),"na") -> na | H27: =IF(SUM('Data Input'!$J20)>0,'Data Input'!H20/SUM('Data Input'!$B20:$I20),"na") -> na | I27: =IF(SUM('Data Input'!$J20)>0,'Data Input'!I20/SUM('Data Input'!$B20:$I20),"na") -> na | J27: =SUM('Data Input'!B20:I20) -> 0
A28: ='Data Input'!A21 -> [Subgroup 10] | B28: =IF(SUM('Data Input'!$J21)>0,'Data Input'!B21/SUM('Data Input'!$B21:$I21),"na") -> na | C28: =IF(SUM('Data Input'!$J21)>0,'Data Input'!C21/SUM('Data Input'!$B21:$I21),"na") -> na | D28: =IF(SUM('Data Input'!$J21)>0,'Data Input'!D21/SUM('Data Input'!$B21:$I21),"na") -> na | E28: =IF(SUM('Data Input'!$J21)>0,'Data Input'!E21/SUM('Data Input'!$B21:$I21),"na") -> na | F28: =IF(SUM('Data Input'!$J21)>0,'Data Input'!F21/SUM('Data Input'!$B21:$I21),"na") -> na | G28: =IF(SUM('Data Input'!$J21)>0,'Data Input'!G21/SUM('Data Input'!$B21:$I21),"na") -> na | H28: =IF(SUM('Data Input'!$J21)>0,'Data Input'!H21/SUM('Data Input'!$B21:$I21),"na") -> na | I28: =IF(SUM('Data Input'!$J21)>0,'Data Input'!I21/SUM('Data Input'!$B21:$I21),"na") -> na | J28: =SUM('Data Input'!B21:I21) -> 0
A29: 95% Margin of Error (MOE)
B30: ESL Course
A31: Student Subgroup | B31: =B4 -> [ESL #1] | C31: =C4 -> [ESL #2] | D31: =D4 -> [ESL #3] | E31: =E4 -> [ESL #4] | F31: =F4 -> [ESL #5] | G31: =G4 -> [ESL #6] | H31: =H4 -> [ESL #7] | I31: =I4 -> [ESL #8]
A32: =A6 -> [Subgroup 1] | B32: =1.96*SQRT(B19*(1-B19)/$J19) -> #VALUE! | C32: =1.96*SQRT(C19*(1-C19)/$J19) -> #VALUE! | D32: =1.96*SQRT(D19*(1-D19)/$J19) -> #VALUE! | E32: =1.96*SQRT(E19*(1-E19)/$J19) -> #VALUE! | F32: =1.96*SQRT(F19*(1-F19)/$J19) -> #VALUE! | G32: =1.96*SQRT(G19*(1-G19)/$J19) -> #VALUE! | H32: =1.96*SQRT(H19*(1-H19)/$J19) -> #VALUE! | I32: =1.96*SQRT(I19*(1-I19)/$J19) -> #VALUE!
A33: =A7 -> [Subgroup 2] | B33: =1.96*SQRT(B20*(1-B20)/$J20) -> #VALUE! | C33: =1.96*SQRT(C20*(1-C20)/$J20) -> #VALUE! | D33: =1.96*SQRT(D20*(1-D20)/$J20) -> #VALUE! | E33: =1.96*SQRT(E20*(1-E20)/$J20) -> #VALUE! | F33: =1.96*SQRT(F20*(1-F20)/$J20) -> #VALUE! | G33: =1.96*SQRT(G20*(1-G20)/$J20) -> #VALUE! | H33: =1.96*SQRT(H20*(1-H20)/$J20) -> #VALUE! | I33: =1.96*SQRT(I20*(1-I20)/$J20) -> #VALUE!
A34: =A8 -> [Subgroup 3] | B34: =1.96*SQRT(B21*(1-B21)/$J21) -> #VALUE! | C34: =1.96*SQRT(C21*(1-C21)/$J21) -> #VALUE! | D34: =1.96*SQRT(D21*(1-D21)/$J21) -> #VALUE! | E34: =1.96*SQRT(E21*(1-E21)/$J21) -> #VALUE! | F34: =1.96*SQRT(F21*(1-F21)/$J21) -> #VALUE! | G34: =1.96*SQRT(G21*(1-G21)/$J21) -> #VALUE! | H34: =1.96*SQRT(H21*(1-H21)/$J21) -> #VALUE! | I34: =1.96*SQRT(I21*(1-I21)/$J21) -> #VALUE!
A35: =A9 -> [Subgroup 4] | B35: =1.96*SQRT(B22*(1-B22)/$J22) -> #VALUE! | C35: =1.96*SQRT(C22*(1-C22)/$J22) -> #VALUE! | D35: =1.96*SQRT(D22*(1-D22)/$J22) -> #VALUE! | E35: =1.96*SQRT(E22*(1-E22)/$J22) -> #VALUE! | F35: =1.96*SQRT(F22*(1-F22)/$J22) -> #VALUE! | G35: =1.96*SQRT(G22*(1-G22)/$J22) -> #VALUE! | H35: =1.96*SQRT(H22*(1-H22)/$J22) -> #VALUE! | I35: =1.96*SQRT(I22*(1-I22)/$J22) -> #VALUE!
A36: =A10 -> [Subgroup 5] | B36: =1.96*SQRT(B23*(1-B23)/$J23) -> #VALUE! | C36: =1.96*SQRT(C23*(1-C23)/$J23) -> #VALUE! | D36: =1.96*SQRT(D23*(1-D23)/$J23) -> #VALUE! | E36: =1.96*SQRT(E23*(1-E23)/$J23) -> #VALUE! | F36: =1.96*SQRT(F23*(1-F23)/$J23) -> #VALUE! | G36: =1.96*SQRT(G23*(1-G23)/$J23) -> #VALUE! | H36: =1.96*SQRT(H23*(1-H23)/$J23) -> #VALUE! | I36: =1.96*SQRT(I23*(1-I23)/$J23) -> #VALUE!
A37: =A11 -> [Subgroup 6] | B37: =1.96*SQRT(B24*(1-B24)/$J24) -> #VALUE! | C37: =1.96*SQRT(C24*(1-C24)/$J24) -> #VALUE! | D37: =1.96*SQRT(D24*(1-D24)/$J24) -> #VALUE! | E37: =1.96*SQRT(E24*(1-E24)/$J24) -> #VALUE! | F37: =1.96*SQRT(F24*(1-F24)/$J24) -> #VALUE! | G37: =1.96*SQRT(G24*(1-G24)/$J24) -> #VALUE! | H37: =1.96*SQRT(H24*(1-H24)/$J24) -> #VALUE! | I37: =1.96*SQRT(I24*(1-I24)/$J24) -> #VALUE!
A38: =A12 -> [Subgroup 7] | B38: =1.96*SQRT(B25*(1-B25)/$J25) -> #VALUE! | C38: =1.96*SQRT(C25*(1-C25)/$J25) -> #VALUE! | D38: =1.96*SQRT(D25*(1-D25)/$J25) -> #VALUE! | E38: =1.96*SQRT(E25*(1-E25)/$J25) -> #VALUE! | F38: =1.96*SQRT(F25*(1-F25)/$J25) -> #VALUE! | G38: =1.96*SQRT(G25*(1-G25)/$J25) -> #VALUE! | H38: =1.96*SQRT(H25*(1-H25)/$J25) -> #VALUE! | I38: =1.96*SQRT(I25*(1-I25)/$J25) -> #VALUE!
A39: =A13 -> [Subgroup 8] | B39: =1.96*SQRT(B26*(1-B26)/$J26) -> #VALUE! | C39: =1.96*SQRT(C26*(1-C26)/$J26) -> #VALUE! | D39: =1.96*SQRT(D26*(1-D26)/$J26) -> #VALUE! | E39: =1.96*SQRT(E26*(1-E26)/$J26) -> #VALUE! | F39: =1.96*SQRT(F26*(1-F26)/$J26) -> #VALUE! | G39: =1.96*SQRT(G26*(1-G26)/$J26) -> #VALUE! | H39: =1.96*SQRT(H26*(1-H26)/$J26) -> #VALUE! | I39: =1.96*SQRT(I26*(1-I26)/$J26) -> #VALUE!
A40: =A14 -> [Subgroup 9] | B40: =1.96*SQRT(B27*(1-B27)/$J27) -> #VALUE! | C40: =1.96*SQRT(C27*(1-C27)/$J27) -> #VALUE! | D40: =1.96*SQRT(D27*(1-D27)/$J27) -> #VALUE! | E40: =1.96*SQRT(E27*(1-E27)/$J27) -> #VALUE! | F40: =1.96*SQRT(F27*(1-F27)/$J27) -> #VALUE! | G40: =1.96*SQRT(G27*(1-G27)/$J27) -> #VALUE! | H40: =1.96*SQRT(H27*(1-H27)/$J27) -> #VALUE! | I40: =1.96*SQRT(I27*(1-I27)/$J27) -> #VALUE!
A41: =A15 -> [Subgroup 10] | B41: =1.96*SQRT(B28*(1-B28)/$J28) -> #VALUE! | C41: =1.96*SQRT(C28*(1-C28)/$J28) -> #VALUE! | D41: =1.96*SQRT(D28*(1-D28)/$J28) -> #VALUE! | E41: =1.96*SQRT(E28*(1-E28)/$J28) -> #VALUE! | F41: =1.96*SQRT(F28*(1-F28)/$J28) -> #VALUE! | G41: =1.96*SQRT(G28*(1-G28)/$J28) -> #VALUE! | H41: =1.96*SQRT(H28*(1-H28)/$J28) -> #VALUE! | I41: =1.96*SQRT(I28*(1-I28)/$J28) -> #VALUE!

Sheet PI
A1: Proportionality Index (PI)
A2: - PI values < 0.85 are highlighted in red with an X, indicating potential DI against the subgroup (lower placement rate). - PI values > 1.25 are highlighted in green with a ✓, indicating potential DI in favor of the subgroup (higher placement rate). - Column J (cells J6 through J15) contains sample size flags: "Small Sample" indicates n<=30, and "Large Sample" indicates n>1600. - When the sample size is small, the results can be unstable.
A3: Proportionality Index (PI) | B3: ESL Course
A4: Student Subgroup | B4: ='Data Input'!B10 -> [ESL #1] | C4: ='Data Input'!C10 -> [ESL #2] | D4: ='Data Input'!D10 -> [ESL #3] | E4: ='Data Input'!E10 -> [ESL #4] | F4: ='Data Input'!F10 -> [ESL #5] | G4: ='Data Input'!G10 -> [ESL #6] | H4: ='Data Input'!H10 -> [ESL #7] | I4: ='Data Input'!I10 -> [ESL #8] | J4: Sample Size Flag
A5: Row Intentionally Left Blank
A6: ='Data Input'!A12 -> [Subgroup 1] | B6: =IF(SUM('Data Input'!$J12)>0,B19/B$29,"na") -> na | C6: =IF(SUM('Data Input'!$J12)>0,C19/C$29,"na") -> na | D6: =IF(SUM('Data Input'!$J12)>0,D19/D$29,"na") -> na | E6: =IF(SUM('Data Input'!$J12)>0,E19/E$29,"na") -> na | F6: =IF(SUM('Data Input'!$J12)>0,F19/F$29,"na") -> na | G6: =IF(SUM('Data Input'!$J12)>0,G19/G$29,"na") -> na | H6: =IF(SUM('Data Input'!$J12)>0,H19/H$29,"na") -> na | I6: =IF(SUM('Data Input'!$J12)>0,I19/I$29,"na") -> na | J6: ='Data Input'!K12
A7: ='Data Input'!A13 -> [Subgroup 2] | B7: =IF(SUM('Data Input'!$J13)>0,B20/B$29,"na") -> na | C7: =IF(SUM('Data Input'!$J13)>0,C20/C$29,"na") -> na | D7: =IF(SUM('Data Input'!$J13)>0,D20/D$29,"na") -> na | E7: =IF(SUM('Data Input'!$J13)>0,E20/E$29,"na") -> na | F7: =IF(SUM('Data Input'!$J13)>0,F20/F$29,"na") -> na | G7: =IF(SUM('Data Input'!$J13)>0,G20/G$29,"na") -> na | H7: =IF(SUM('Data Input'!$J13)>0,H20/H$29,"na") -> na | I7: =IF(SUM('Data Input'!$J13)>0,I20/I$29,"na") -> na | J7: ='Data Input'!K13
A8: ='Data Input'!A14 -> [Subgroup 3] | B8: =IF(SUM('Data Input'!$J14)>0,B21/B$29,"na") -> na | C8: =IF(SUM('Data Input'!$J14)>0,C21/C$29,"na") -> na | D8: =IF(SUM('Data Input'!$J14)>0,D21/D$29,"na") -> na | E8: =IF(SUM('Data Input'!$J14)>0,E21/E$29,"na") -> na | F8: =IF(SUM('Data Input'!$J14)>0,F21/F$29,"na") -> na | G8: =IF(SUM('Data Input'!$J14)>0,G21/G$29,"na") -> na | H8: =IF(SUM('Data Input'!$J14)>0,H21/H$29,"na") -> na | I8: =IF(SUM('Data Input'!$J14)>0,I21/I$29,"na") -> na | J8: ='Data Input'!K14
A9: ='Data Input'!A15 -> [Subgroup 4] | B9: =IF(SUM('Data Input'!$J15)>0,B22/B$29,"na") -> na | C9: =IF(SUM('Data Input'!$J15)>0,C22/C$29,"na") -> na | D9: =IF(SUM('Data Input'!$J15)>0,D22/D$29,"na") -> na | E9: =IF(SUM('Data Input'!$J15)>0,E22/E$29,"na") -> na | F9: =IF(SUM('Data Input'!$J15)>0,F22/F$29,"na") -> na | G9: =IF(SUM('Data Input'!$J15)>0,G22/G$29,"na") -> na | H9: =IF(SUM('Data Input'!$J15)>0,H22/H$29,"na") -> na | I9: =IF(SUM('Data Input'!$J15)>0,I22/I$29,"na") -> na | J9: ='Data Input'!K15
A10: ='Data Input'!A16 -> [Subgroup 5] | B10: =IF(SUM('Data Input'!$J16)>0,B23/B$29,"na") -> na | C10: =IF(SUM('Data Input'!$J16)>0,C23/C$29,"na") -> na | D10: =IF(SUM('Data Input'!$J16)>0,D23/D$29,"na") -> na | E10: =IF(SUM('Data Input'!$J16)>0,E23/E$29,"na") -> na | F10: =IF(SUM('Data Input'!$J16)>0,F23/F$29,"na") -> na | G10: =IF(SUM('Data Input'!$J16)>0,G23/G$29,"na") -> na | H10: =IF(SUM('Data Input'!$J16)>0,H23/H$29,"na") -> na | I10: =IF(SUM('Data Input'!$J16)>0,I23/I$29,"na") -> na | J10: ='Data Input'!K16
A11: ='Data Input'!A17 -> [Subgroup 6] | B11: =IF(SUM('Data Input'!$J17)>0,B24/B$29,"na") -> na | C11: =IF(SUM('Data Input'!$J17)>0,C24/C$29,"na") -> na | D11: =IF(SUM('Data Input'!$J17)>0,D24/D$29,"na") -> na | E11: =IF(SUM('Data Input'!$J17)>0,E24/E$29,"na") -> na | F11: =IF(SUM('Data Input'!$J17)>0,F24/F$29,"na") -> na | G11: =IF(SUM('Data Input'!$J17)>0,G24/G$29,"na") -> na | H11: =IF(SUM('Data Input'!$J17)>0,H24/H$29,"na") -> na | I11: =IF(SUM('Data Input'!$J17)>0,I24/I$29,"na") -> na | J11: ='Data Input'!K17
A12: ='Data Input'!A18 -> [Subgroup 7] | B12: =IF(SUM('Data Input'!$J18)>0,B25/B$29,"na") -> na | C12: =IF(SUM('Data Input'!$J18)>0,C25/C$29,"na") -> na | D12: =IF(SUM('Data Input'!$J18)>0,D25/D$29,"na") -> na | E12: =IF(SUM('Data Input'!$J18)>0,E25/E$29,"na") -> na | F12: =IF(SUM('Data Input'!$J18)>0,F25/F$29,"na") -> na | G12: =IF(SUM('Data Input'!$J18)>0,G25/G$29,"na") -> na | H12: =IF(SUM('Data Input'!$J18)>0,H25/H$29,"na") -> na | I12: =IF(SUM('Data Input'!$J18)>0,I25/I$29,"na") -> na | J12: ='Data Input'!K18
A13: ='Data Input'!A19 -> [Subgroup 8] | B13: =IF(SUM('Data Input'!$J19)>0,B26/B$29,"na") -> na | C13: =IF(SUM('Data Input'!$J19)>0,C26/C$29,"na") -> na | D13: =IF(SUM('Data Input'!$J19)>0,D26/D$29,"na") -> na | E13: =IF(SUM('Data Input'!$J19)>0,E26/E$29,"na") -> na | F13: =IF(SUM('Data Input'!$J19)>0,F26/F$29,"na") -> na | G13: =IF(SUM('Data Input'!$J19)>0,G26/G$29,"na") -> na | H13: =IF(SUM('Data Input'!$J19)>0,H26/H$29,"na") -> na | I13: =IF(SUM('Data Input'!$J19)>0,I26/I$29,"na") -> na | J13: ='Data Input'!K19
A14: ='Data Input'!A20 -> [Subgroup 9] | B14: =IF(SUM('Data Input'!$J20)>0,B27/B$29,"na") -> na | C14: =IF(SUM('Data Input'!$J20)>0,C27/C$29,"na") -> na | D14: =IF(SUM('Data Input'!$J20)>0,D27/D$29,"na") -> na | E14: =IF(SUM('Data Input'!$J20)>0,E27/E$29,"na") -> na | F14: =IF(SUM('Data Input'!$J20)>0,F27/F$29,"na") -> na | G14: =IF(SUM('Data Input'!$J20)>0,G27/G$29,"na") -> na | H14: =IF(SUM('Data Input'!$J20)>0,H27/H$29,"na") -> na | I14: =IF(SUM('Data Input'!$J20)>0,I27/I$29,"na") -> na | J14: ='Data Input'!K20
A15: ='Data Input'!A21 -> [Subgroup 10] | B15: =IF(SUM('Data Input'!$J21)>0,B28/B$29,"na") -> na | C15: =IF(SUM('Data Input'!$J21)>0,C28/C$29,"na") -> na | D15: =IF(SUM('Data Input'!$J21)>0,D28/D$29,"na") -> na | E15: =IF(SUM('Data Input'!$J21)>0,E28/E$29,"na") -> na | F15: =IF(SUM('Data Input'!$J21)>0,F28/F$29,"na") -> na | G15: =IF(SUM('Data Input'!$J21)>0,G28/G$29,"na") -> na | H15: =IF(SUM('Data Input'!$J21)>0,H28/H$29,"na") -> na | I15: =IF(SUM('Data Input'!$J21)>0,I28/I$29,"na") -> na | J15: ='Data Input'!K21
A16: ESL Course Placement Rates by Student Subgroup
B17: ESL Course
A18: Student Subgroup | B18: =B4 -> [ESL #1] | C18: =C4 -> [ESL #2] | D18: =D4 -> [ESL #3] | E18: =E4 -> [ESL #4] | F18: =F4 -> [ESL #5] | G18: =G4 -> [ESL #6] | H18: =H4 -> [ESL #7] | I18: =I4 -> [ESL #8] | J18: n
A19: =A6 -> [Subgroup 1] | B19: ='PPG-1'!B19 -> na | C19: ='PPG-1'!C19 -> na | D19: ='PPG-1'!D19 -> na | E19: ='PPG-1'!E19 -> na | F19: ='PPG-1'!F19 -> na | G19: ='PPG-1'!G19 -> na | H19: ='PPG-1'!H19 -> na | I19: ='PPG-1'!I19 -> na | J19: =SUM('Data Input'!B12:I12) -> 0
A20: =A7 -> [Subgroup 2] | B20: ='PPG-1'!B20 -> na | C20: ='PPG-1'!C20 -> na | D20: ='PPG-1'!D20 -> na | E20: ='PPG-1'!E20 -> na | F20: ='PPG-1'!F20 -> na | G20: ='PPG-1'!G20 -> na | H20: ='PPG-1'!H20 -> na | I20: ='PPG-1'!I20 -> na | J20: =SUM('Data Input'!B13:I13) -> 0
A21: =A8 -> [Subgroup 3] | B21: ='PPG-1'!B21 -> na | C21: ='PPG-1'!C21 -> na | D21: ='PPG-1'!D21 -> na | E21: ='PPG-1'!E21 -> na | F21: ='PPG-1'!F21 -> na | G21: ='PPG-1'!G21 -> na | H21: ='PPG-1'!H21 -> na | I21: ='PPG-1'!I21 -> na | J21: =SUM('Data Input'!B14:I14) -> 0
A22: =A9 -> [Subgroup 4] | B22: ='PPG-1'!B22 -> na | C22: ='PPG-1'!C22 -> na | D22: ='PPG-1'!D22 -> na | E22: ='PPG-1'!E22 -> na | F22: ='PPG-1'!F22 -> na | G22: ='PPG-1'!G22 -> na | H22: ='PPG-1'!H22 -> na | I22: ='PPG-1'!I22 -> na | J22: =SUM('Data Input'!B15:I15) -> 0
A23: =A10 -> [Subgroup 5] | B23: ='PPG-1'!B23 -> na | C23: ='PPG-1'!C23 -> na | D23: ='PPG-1'!D23 -> na | E23: ='PPG-1'!E23 -> na | F23: ='PPG-1'!F23 -> na | G23: ='PPG-1'!G23 -> na | H23: ='PPG-1'!H23 -> na | I23: ='PPG-1'!I23 -> na | J23: =SUM('Data Input'!B16:I16) -> 0
A24: =A11 -> [Subgroup 6] | B24: ='PPG-1'!B24 -> na | C24: ='PPG-1'!C24 -> na | D24: ='PPG-1'!D24 -> na | E24: ='PPG-1'!E24 -> na | F24: ='PPG-1'!F24 -> na | G24: ='PPG-1'!G24 -> na | H24: ='PPG-1'!H24 -> na | I24: ='PPG-1'!I24 -> na | J24: =SUM('Data Input'!B17:I17) -> 0
A25: =A12 -> [Subgroup 7] | B25: ='PPG-1'!B25 -> na | C25: ='PPG-1'!C25 -> na | D25: ='PPG-1'!D25 -> na | E25: ='PPG-1'!E25 -> na | F25: ='PPG-1'!F25 -> na | G25: ='PPG-1'!G25 -> na | H25: ='PPG-1'!H25 -> na | I25: ='PPG-1'!I25 -> na | J25: =SUM('Data Input'!B18:I18) -> 0
A26: =A13 -> [Subgroup 8] | B26: ='PPG-1'!B26 -> na | C26: ='PPG-1'!C26 -> na | D26: ='PPG-1'!D26 -> na | E26: ='PPG-1'!E26 -> na | F26: ='PPG-1'!F26 -> na | G26: ='PPG-1'!G26 -> na | H26: ='PPG-1'!H26 -> na | I26: ='PPG-1'!I26 -> na | J26: =SUM('Data Input'!B19:I19) -> 0
A27: =A14 -> [Subgroup 9] | B27: ='PPG-1'!B27 -> na | C27: ='PPG-1'!C27 -> na | D27: ='PPG-1'!D27 -> na | E27: ='PPG-1'!E27 -> na | F27: ='PPG-1'!F27 -> na | G27: ='PPG-1'!G27 -> na | H27: ='PPG-1'!H27 -> na | I27: ='PPG-1'!I27 -> na | J27: =SUM('Data Input'!B20:I20) -> 0
A28: =A15 -> [Subgroup 10] | B28: ='PPG-1'!B28 -> na | C28: ='PPG-1'!C28 -> na | D28: ='PPG-1'!D28 -> na | E28: ='PPG-1'!E28 -> na | F28: ='PPG-1'!F28 -> na | G28: ='PPG-1'!G28 -> na | H28: ='PPG-1'!H28 -> na | I28: ='PPG-1'!I28 -> na | J28: =SUM('Data Input'!B21:I21) -> 0
A29: Overall Placement Rate | B29: =SUM('Data Input'!B12:B21)/SUM($J19:$J28) -> #DIV/0! | C29: =SUM('Data Input'!C12:C21)/SUM($J19:$J28) -> #DIV/0! | D29: =SUM('Data Input'!D12:D21)/SUM($J19:$J28) -> #DIV/0! | E29: =SUM('Data Input'!E12:E21)/SUM($J19:$J28) -> #DIV/0! | F29: =SUM('Data Input'!F12:F21)/SUM($J19:$J28) -> #DIV/0! | G29: =SUM('Data Input'!G12:G21)/SUM($J19:$J28) -> #DIV/0! | H29: =SUM('Data Input'!H12:H21)/SUM($J19:$J28) -> #DIV/0! | I29: =SUM('Data Input'!I12:I21)/SUM($J19:$J28) -> #DIV/0!

Sheet 80% Rule
A1: 80% Cutoff Rule
A2: - The reference group(s) with the highest placement rate for each ESL course is marked with blue font. - Course placement rates below the 80% cutoff are highlighted in red with an X, indicating potential DI against the subgroup (lower placement rate). - Column K (cells K7 through K16) contains sample size flags: "Small Sample" indicates n<=30, and "Large Sample" indicates n>1600. - Small sample sizes can lead to unstable results, especially when the reference group is small. In such cases, the user may want to choose a different reference group using the last tab, "80% Rule - User Defined."
A3: ESL Course Placement Rates by Student Subgroup
B4: ESL Course
A5: Student Subgroup | B5: ='Data Input'!B10 -> [ESL #1] | C5: ='Data Input'!C10 -> [ESL #2] | D5: ='Data Input'!D10 -> [ESL #3] | E5: ='Data Input'!E10 -> [ESL #4] | F5: ='Data Input'!F10 -> [ESL #5] | G5: ='Data Input'!G10 -> [ESL #6] | H5: ='Data Input'!H10 -> [ESL #7] | I5: ='Data Input'!I10 -> [ESL #8] | J5: n | K5: Sample Size Flag
A6: 80% Cutoff | B6: =B17*0.8 -> 0 | C6: =C17*0.8 -> 0 | D6: =D17*0.8 -> 0 | E6: =E17*0.8 -> 0 | F6: =F17*0.8 -> 0 | G6: =G17*0.8 -> 0 | H6: =H17*0.8 -> 0 | I6: =I17*0.8 -> 0
A7: ='Data Input'!A12 -> [Subgroup 1] | B7: =IF(SUM('Data Input'!$J12)>0,'PPG-1'!B19,"na") -> na | C7: =IF(SUM('Data Input'!$J12)>0,'PPG-1'!C19,"na") -> na | D7: =IF(SUM('Data Input'!$J12)>0,'PPG-1'!D19,"na") -> na | E7: =IF(SUM('Data Input'!$J12)>0,'PPG-1'!E19,"na") -> na | F7: =IF(SUM('Data Input'!$J12)>0,'PPG-1'!F19,"na") -> na | G7: =IF(SUM('Data Input'!$J12)>0,'PPG-1'!G19,"na") -> na | H7: =IF(SUM('Data Input'!$J12)>0,'PPG-1'!H19,"na") -> na | I7: =IF(SUM('Data Input'!$J12)>0,'PPG-1'!I19,"na") -> na | J7: =SUM('Data Input'!B12:I12) -> 0 | K7: ='Data Input'!K12
A8: ='Data Input'!A13 -> [Subgroup 2] | B8: =IF(SUM('Data Input'!$J13)>0,'PPG-1'!B20,"na") -> na | C8: =IF(SUM('Data Input'!$J13)>0,'PPG-1'!C20,"na") -> na | D8: =IF(SUM('Data Input'!$J13)>0,'PPG-1'!D20,"na") -> na | E8: =IF(SUM('Data Input'!$J13)>0,'PPG-1'!E20,"na") -> na | F8: =IF(SUM('Data Input'!$J13)>0,'PPG-1'!F20,"na") -> na | G8: =IF(SUM('Data Input'!$J13)>0,'PPG-1'!G20,"na") -> na | H8: =IF(SUM('Data Input'!$J13)>0,'PPG-1'!H20,"na") -> na | I8: =IF(SUM('Data Input'!$J13)>0,'PPG-1'!I20,"na") -> na | J8: =SUM('Data Input'!B13:I13) -> 0 | K8: ='Data Input'!K13
A9: ='Data Input'!A14 -> [Subgroup 3] | B9: =IF(SUM('Data Input'!$J14)>0,'PPG-1'!B21,"na") -> na | C9: =IF(SUM('Data Input'!$J14)>0,'PPG-1'!C21,"na") -> na | D9: =IF(SUM('Data Input'!$J14)>0,'PPG-1'!D21,"na") -> na | E9: =IF(SUM('Data Input'!$J14)>0,'PPG-1'!E21,"na") -> na | F9: =IF(SUM('Data Input'!$J14)>0,'PPG-1'!F21,"na") -> na | G9: =IF(SUM('Data Input'!$J14)>0,'PPG-1'!G21,"na") -> na | H9: =IF(SUM('Data Input'!$J14)>0,'PPG-1'!H21,"na") -> na | I9: =IF(SUM('Data Input'!$J14)>0,'PPG-1'!I21,"na") -> na | J9: =SUM('Data Input'!B14:I14) -> 0 | K9: ='Data Input'!K14
A10: ='Data Input'!A15 -> [Subgroup 4] | B10: =IF(SUM('Data Input'!$J15)>0,'PPG-1'!B22,"na") -> na | C10: =IF(SUM('Data Input'!$J15)>0,'PPG-1'!C22,"na") -> na | D10: =IF(SUM('Data Input'!$J15)>0,'PPG-1'!D22,"na") -> na | E10: =IF(SUM('Data Input'!$J15)>0,'PPG-1'!E22,"na") -> na | F10: =IF(SUM('Data Input'!$J15)>0,'PPG-1'!F22,"na") -> na | G10: =IF(SUM('Data Input'!$J15)>0,'PPG-1'!G22,"na") -> na | H10: =IF(SUM('Data Input'!$J15)>0,'PPG-1'!H22,"na") -> na | I10: =IF(SUM('Data Input'!$J15)>0,'PPG-1'!I22,"na") -> na | J10: =SUM('Data Input'!B15:I15) -> 0 | K10: ='Data Input'!K15
A11: ='Data Input'!A16 -> [Subgroup 5] | B11: =IF(SUM('Data Input'!$J16)>0,'PPG-1'!B23,"na") -> na | C11: =IF(SUM('Data Input'!$J16)>0,'PPG-1'!C23,"na") -> na | D11: =IF(SUM('Data Input'!$J16)>0,'PPG-1'!D23,"na") -> na | E11: =IF(SUM('Data Input'!$J16)>0,'PPG-1'!E23,"na") -> na | F11: =IF(SUM('Data Input'!$J16)>0,'PPG-1'!F23,"na") -> na | G11: =IF(SUM('Data Input'!$J16)>0,'PPG-1'!G23,"na") -> na | H11: =IF(SUM('Data Input'!$J16)>0,'PPG-1'!H23,"na") -> na | I11: =IF(SUM('Data Input'!$J16)>0,'PPG-1'!I23,"na") -> na | J11: =SUM('Data Input'!B16:I16) -> 0 | K11: ='Data Input'!K16
A12: ='Data Input'!A17 -> [Subgroup 6] | B12: =IF(SUM('Data Input'!$J17)>0,'PPG-1'!B24,"na") -> na | C12: =IF(SUM('Data Input'!$J17)>0,'PPG-1'!C24,"na") -> na | D12: =IF(SUM('Data Input'!$J17)>0,'PPG-1'!D24,"na") -> na | E12: =IF(SUM('Data Input'!$J17)>0,'PPG-1'!E24,"na") -> na | F12: =IF(SUM('Data Input'!$J17)>0,'PPG-1'!F24,"na") -> na | G12: =IF(SUM('Data Input'!$J17)>0,'PPG-1'!G24,"na") -> na | H12: =IF(SUM('Data Input'!$J17)>0,'PPG-1'!H24,"na") -> na | I12: =IF(SUM('Data Input'!$J17)>0,'PPG-1'!I24,"na") -> na | J12: =SUM('Data Input'!B17:I17) -> 0 | K12: ='Data Input'!K17
A13: ='Data Input'!A18 -> [Subgroup 7] | B13: =IF(SUM('Data Input'!$J18)>0,'PPG-1'!B25,"na") -> na | C13: =IF(SUM('Data Input'!$J18)>0,'PPG-1'!C25,"na") -> na | D13: =IF(SUM('Data Input'!$J18)>0,'PPG-1'!D25,"na") -> na | E13: =IF(SUM('Data Input'!$J18)>0,'PPG-1'!E25,"na") -> na | F13: =IF(SUM('Data Input'!$J18)>0,'PPG-1'!F25,"na") -> na | G13: =IF(SUM('Data Input'!$J18)>0,'PPG-1'!G25,"na") -> na | H13: =IF(SUM('Data Input'!$J18)>0,'PPG-1'!H25,"na") -> na | I13: =IF(SUM('Data Input'!$J18)>0,'PPG-1'!I25,"na") -> na | J13: =SUM('Data Input'!B18:I18) -> 0 | K13: ='Data Input'!K18
A14: ='Data Input'!A19 -> [Subgroup 8] | B14: =IF(SUM('Data Input'!$J19)>0,'PPG-1'!B26,"na") -> na | C14: =IF(SUM('Data Input'!$J19)>0,'PPG-1'!C26,"na") -> na | D14: =IF(SUM('Data Input'!$J19)>0,'PPG-1'!D26,"na") -> na | E14: =IF(SUM('Data Input'!$J19)>0,'PPG-1'!E26,"na") -> na | F14: =IF(SUM('Data Input'!$J19)>0,'PPG-1'!F26,"na") -> na | G14: =IF(SUM('Data Input'!$J19)>0,'PPG-1'!G26,"na") -> na | H14: =IF(SUM('Data Input'!$J19)>0,'PPG-1'!H26,"na") -> na | I14: =IF(SUM('Data Input'!$J19)>0,'PPG-1'!I26,"na") -> na | J14: =SUM('Data Input'!B19:I19) -> 0 | K14: ='Data Input'!K19
A15: ='Data Input'!A20 -> [Subgroup 9] | B15: =IF(SUM('Data Input'!$J20)>0,'PPG-1'!B27,"na") -> na | C15: =IF(SUM('Data Input'!$J20)>0,'PPG-1'!C27,"na") -> na | D15: =IF(SUM('Data Input'!$J20)>0,'PPG-1'!D27,"na") -> na | E15: =IF(SUM('Data Input'!$J20)>0,'PPG-1'!E27,"na") -> na | F15: =IF(SUM('Data Input'!$J20)>0,'PPG-1'!F27,"na") -> na | G15: =IF(SUM('Data Input'!$J20)>0,'PPG-1'!G27,"na") -> na | H15: =IF(SUM('Data Input'!$J20)>0,'PPG-1'!H27,"na") -> na | I15: =IF(SUM('Data Input'!$J20)>0,'PPG-1'!I27,"na") -> na | J15: =SUM('Data Input'!B20:I20) -> 0 | K15: ='Data Input'!K20
A16: ='Data Input'!A21 -> [Subgroup 10] | B16: =IF(SUM('Data Input'!$J21)>0,'PPG-1'!B28,"na") -> na | C16: =IF(SUM('Data Input'!$J21)>0,'PPG-1'!C28,"na") -> na | D16: =IF(SUM('Data Input'!$J21)>0,'PPG-1'!D28,"na") -> na | E16: =IF(SUM('Data Input'!$J21)>0,'PPG-1'!E28,"na") -> na | F16: =IF(SUM('Data Input'!$J21)>0,'PPG-1'!F28,"na") -> na | G16: =IF(SUM('Data Input'!$J21)>0,'PPG-1'!G28,"na") -> na | H16: =IF(SUM('Data Input'!$J21)>0,'PPG-1'!H28,"na") -> na | I16: =IF(SUM('Data Input'!$J21)>0,'PPG-1'!I28,"na") -> na | J16: =SUM('Data Input'!B21:I21) -> 0 | K16: ='Data Input'!K21
A17: Highest Placement Rate among the Subgroups | B17: =MAX(B7:B16) -> 0 | C17: =MAX(C7:C16) -> 0 | D17: =MAX(D7:D16) -> 0 | E17: =MAX(E7:E16) -> 0 | F17: =MAX(F7:F16) -> 0 | G17: =MAX(G7:G16) -> 0 | H17: =MAX(H7:H16) -> 0 | I17: =MAX(I7:I16) -> 0

Sheet 80% Rule - User Defined
A1: 80% Cutoff Rule with User-Defined References
A2: To use this tab, the user must select a reference group or define justifiable alternative placement rate references. Type the placement rate references in Row 18 (cells B18 through I18), and the results will be automatically adjusted.
A3: - Course placement rates below the 80% cutoff are highlighted in red with an X, indicating potential DI against the subgroup (lower placement rate). - Column K (cells K8 through K17) contains sample size flags: "Small Sample" indicates n<=30, and "Large Sample" indicates n>1600. - Small sample sizes can lead to unstable results, particularly when the reference group is small.
A4: ESL Course Placement Rates by Student Subgroup
B5: ESL Course
A6: Student Subgroup | B6: ='Data Input'!B10 -> [ESL #1] | C6: ='Data Input'!C10 -> [ESL #2] | D6: ='Data Input'!D10 -> [ESL #3] | E6: ='Data Input'!E10 -> [ESL #4] | F6: ='Data Input'!F10 -> [ESL #5] | G6: ='Data Input'!G10 -> [ESL #6] | H6: ='Data Input'!H10 -> [ESL #7] | I6: ='Data Input'!I10 -> [ESL #8] | J6: n | K6: Sample Size Flag
A7: 80% Cutoff | B7: =B18*0.8 -> 0 | C7: =C18*0.8 -> 0 | D7: =D18*0.8 -> 0 | E7: =E18*0.8 -> 0 | F7: =F18*0.8 -> 0 | G7: =G18*0.8 -> 0 | H7: =H18*0.8 -> 0 | I7: =I18*0.8 -> 0
A8: ='Data Input'!A12 -> [Subgroup 1] | B8: =IF(SUM('Data Input'!$J12)>0,'PPG-1'!B19,"na") -> na | C8: =IF(SUM('Data Input'!$J12)>0,'PPG-1'!C19,"na") -> na | D8: =IF(SUM('Data Input'!$J12)>0,'PPG-1'!D19,"na") -> na | E8: =IF(SUM('Data Input'!$J12)>0,'PPG-1'!E19,"na") -> na | F8: =IF(SUM('Data Input'!$J12)>0,'PPG-1'!F19,"na") -> na | G8: =IF(SUM('Data Input'!$J12)>0,'PPG-1'!G19,"na") -> na | H8: =IF(SUM('Data Input'!$J12)>0,'PPG-1'!H19,"na") -> na | I8: =IF(SUM('Data Input'!$J12)>0,'PPG-1'!I19,"na") -> na | J8: =SUM('Data Input'!B12:I12) -> 0 | K8: ='Data Input'!K12
A9: ='Data Input'!A13 -> [Subgroup 2] | B9: =IF(SUM('Data Input'!$J13)>0,'PPG-1'!B20,"na") -> na | C9: =IF(SUM('Data Input'!$J13)>0,'PPG-1'!C20,"na") -> na | D9: =IF(SUM('Data Input'!$J13)>0,'PPG-1'!D20,"na") -> na | E9: =IF(SUM('Data Input'!$J13)>0,'PPG-1'!E20,"na") -> na | F9: =IF(SUM('Data Input'!$J13)>0,'PPG-1'!F20,"na") -> na | G9: =IF(SUM('Data Input'!$J13)>0,'PPG-1'!G20,"na") -> na | H9: =IF(SUM('Data Input'!$J13)>0,'PPG-1'!H20,"na") -> na | I9: =IF(SUM('Data Input'!$J13)>0,'PPG-1'!I20,"na") -> na | J9: =SUM('Data Input'!B13:I13) -> 0 | K9: ='Data Input'!K13
A10: ='Data Input'!A14 -> [Subgroup 3] | B10: =IF(SUM('Data Input'!$J14)>0,'PPG-1'!B21,"na") -> na | C10: =IF(SUM('Data Input'!$J14)>0,'PPG-1'!C21,"na") -> na | D10: =IF(SUM('Data Input'!$J14)>0,'PPG-1'!D21,"na") -> na | E10: =IF(SUM('Data Input'!$J14)>0,'PPG-1'!E21,"na") -> na | F10: =IF(SUM('Data Input'!$J14)>0,'PPG-1'!F21,"na") -> na | G10: =IF(SUM('Data Input'!$J14)>0,'PPG-1'!G21,"na") -> na | H10: =IF(SUM('Data Input'!$J14)>0,'PPG-1'!H21,"na") -> na | I10: =IF(SUM('Data Input'!$J14)>0,'PPG-1'!I21,"na") -> na | J10: =SUM('Data Input'!B14:I14) -> 0 | K10: ='Data Input'!K14
A11: ='Data Input'!A15 -> [Subgroup 4] | B11: =IF(SUM('Data Input'!$J15)>0,'PPG-1'!B22,"na") -> na | C11: =IF(SUM('Data Input'!$J15)>0,'PPG-1'!C22,"na") -> na | D11: =IF(SUM('Data Input'!$J15)>0,'PPG-1'!D22,"na") -> na | E11: =IF(SUM('Data Input'!$J15)>0,'PPG-1'!E22,"na") -> na | F11: =IF(SUM('Data Input'!$J15)>0,'PPG-1'!F22,"na") -> na | G11: =IF(SUM('Data Input'!$J15)>0,'PPG-1'!G22,"na") -> na | H11: =IF(SUM('Data Input'!$J15)>0,'PPG-1'!H22,"na") -> na | I11: =IF(SUM('Data Input'!$J15)>0,'PPG-1'!I22,"na") -> na | J11: =SUM('Data Input'!B15:I15) -> 0 | K11: ='Data Input'!K15
A12: ='Data Input'!A16 -> [Subgroup 5] | B12: =IF(SUM('Data Input'!$J16)>0,'PPG-1'!B23,"na") -> na | C12: =IF(SUM('Data Input'!$J16)>0,'PPG-1'!C23,"na") -> na | D12: =IF(SUM('Data Input'!$J16)>0,'PPG-1'!D23,"na") -> na | E12: =IF(SUM('Data Input'!$J16)>0,'PPG-1'!E23,"na") -> na | F12: =IF(SUM('Data Input'!$J16)>0,'PPG-1'!F23,"na") -> na | G12: =IF(SUM('Data Input'!$J16)>0,'PPG-1'!G23,"na") -> na | H12: =IF(SUM('Data Input'!$J16)>0,'PPG-1'!H23,"na") -> na | I12: =IF(SUM('Data Input'!$J16)>0,'PPG-1'!I23,"na") -> na | J12: =SUM('Data Input'!B16:I16) -> 0 | K12: ='Data Input'!K16
A13: ='Data Input'!A17 -> [Subgroup 6] | B13: =IF(SUM('Data Input'!$J17)>0,'PPG-1'!B24,"na") -> na | C13: =IF(SUM('Data Input'!$J17)>0,'PPG-1'!C24,"na") -> na | D13: =IF(SUM('Data Input'!$J17)>0,'PPG-1'!D24,"na") -> na | E13: =IF(SUM('Data Input'!$J17)>0,'PPG-1'!E24,"na") -> na | F13: =IF(SUM('Data Input'!$J17)>0,'PPG-1'!F24,"na") -> na | G13: =IF(SUM('Data Input'!$J17)>0,'PPG-1'!G24,"na") -> na | H13: =IF(SUM('Data Input'!$J17)>0,'PPG-1'!H24,"na") -> na | I13: =IF(SUM('Data Input'!$J17)>0,'PPG-1'!I24,"na") -> na | J13: =SUM('Data Input'!B17:I17) -> 0 | K13: ='Data Input'!K17
A14: ='Data Input'!A18 -> [Subgroup 7] | B14: =IF(SUM('Data Input'!$J18)>0,'PPG-1'!B25,"na") -> na | C14: =IF(SUM('Data Input'!$J18)>0,'PPG-1'!C25,"na") -> na | D14: =IF(SUM('Data Input'!$J18)>0,'PPG-1'!D25,"na") -> na | E14: =IF(SUM('Data Input'!$J18)>0,'PPG-1'!E25,"na") -> na | F14: =IF(SUM('Data Input'!$J18)>0,'PPG-1'!F25,"na") -> na | G14: =IF(SUM('Data Input'!$J18)>0,'PPG-1'!G25,"na") -> na | H14: =IF(SUM('Data Input'!$J18)>0,'PPG-1'!H25,"na") -> na | I14: =IF(SUM('Data Input'!$J18)>0,'PPG-1'!I25,"na") -> na | J14: =SUM('Data Input'!B18:I18) -> 0 | K14: ='Data Input'!K18
A15: ='Data Input'!A19 -> [Subgroup 8] | B15: =IF(SUM('Data Input'!$J19)>0,'PPG-1'!B26,"na") -> na | C15: =IF(SUM('Data Input'!$J19)>0,'PPG-1'!C26,"na") -> na | D15: =IF(SUM('Data Input'!$J19)>0,'PPG-1'!D26,"na") -> na | E15: =IF(SUM('Data Input'!$J19)>0,'PPG-1'!E26,"na") -> na | F15: =IF(SUM('Data Input'!$J19)>0,'PPG-1'!F26,"na") -> na | G15: =IF(SUM('Data Input'!$J19)>0,'PPG-1'!G26,"na") -> na | H15: =IF(SUM('Data Input'!$J19)>0,'PPG-1'!H26,"na") -> na | I15: =IF(SUM('Data Input'!$J19)>0,'PPG-1'!I26,"na") -> na | J15: =SUM('Data Input'!B19:I19) -> 0 | K15: ='Data Input'!K19
A16: ='Data Input'!A20 -> [Subgroup 9] | B16: =IF(SUM('Data Input'!$J20)>0,'PPG-1'!B27,"na") -> na | C16: =IF(SUM('Data Input'!$J20)>0,'PPG-1'!C27,"na") -> na | D16: =IF(SUM('Data Input'!$J20)>0,'PPG-1'!D27,"na") -> na | E16: =IF(SUM('Data Input'!$J20)>0,'PPG-1'!E27,"na") -> na | F16: =IF(SUM('Data Input'!$J20)>0,'PPG-1'!F27,"na") -> na | G16: =IF(SUM('Data Input'!$J20)>0,'PPG-1'!G27,"na") -> na | H16: =IF(SUM('Data Input'!$J20)>0,'PPG-1'!H27,"na") -> na | I16: =IF(SUM('Data Input'!$J20)>0,'PPG-1'!I27,"na") -> na | J16: =SUM('Data Input'!B20:I20) -> 0 | K16: ='Data Input'!K20
A17: ='Data Input'!A21 -> [Subgroup 10] | B17: =IF(SUM('Data Input'!$J21)>0,'PPG-1'!B28,"na") -> na | C17: =IF(SUM('Data Input'!$J21)>0,'PPG-1'!C28,"na") -> na | D17: =IF(SUM('Data Input'!$J21)>0,'PPG-1'!D28,"na") -> na | E17: =IF(SUM('Data Input'!$J21)>0,'PPG-1'!E28,"na") -> na | F17: =IF(SUM('Data Input'!$J21)>0,'PPG-1'!F28,"na") -> na | G17: =IF(SUM('Data Input'!$J21)>0,'PPG-1'!G28,"na") -> na | H17: =IF(SUM('Data Input'!$J21)>0,'PPG-1'!H28,"na") -> na | I17: =IF(SUM('Data Input'!$J21)>0,'PPG-1'!I28,"na") -> na | J17: =SUM('Data Input'!B21:I21) -> 0 | K17: ='Data Input'!K21
A18: Placement Rate Reference | B18: 0 | C18: 0 | D18: 0 | E18: 0 | F18: 0 | G18: 0 | H18: 0 | I18: 0 | J18: In Row 18, enter placement rate for the selected reference group or rate
