Workbook

Sheet Instructions
A1: Availability Worksheet
A2: The Availability Worksheet is a tool to calculate individual race/ethnicity and gender group availability when recruiting from multiple census areas for a job title or group of similar positions.
A3: The worksheet is set up to measure a composite availability for up to 10 recruitment areas, but can be expanded if more areas are needed.
A4: The worksheet will measure availability for American Indian/Alaska Native, Asian, Black/African-American, Hispanic/Latino, Pacific Islander/HI Native, Unknown/Blank and White/Non-Hispanic, as well as totals for historically underrepresented groups. It will also include categories for males and females.
A5: Note: The Census uses the term “sex” (male/female), while this form uses “gender” for inclusivity. For purposes of this analysis, gender categories should be aligned to the Census “sex” categories. Non-binary, other gender identities and the race/ethnicity category of “Two or More Races” are not included, as they are not Census availability categories.
A6: The total historically underrepresented groups calculation is the White availability subtracted from 100%. This number will be more than the sum of the historically underrepresented groups listed because not all possible historically underrepresented groups are listed on the worksheet.
A7: The light green cells need to be entered by the user. The orange cells contain formulas which calculate automatically and should not be altered.
A8: In order to enter the availability data for each race/ethnicity in columns C through H, the user will need to identify the recruitment area and census occupation codes and create the appropriate census employment estimate report at www.census.gov or obtain data from an alternative source.
A9: The user will need to determine the weight given to each recruitment area, likely based on historical patterns, projected future patterns, or desired areas targeted for specific recruitment (such as part of an EEO objective).
A10: Step 1: Enter the company name, department name, division name, or other meaningful identifier; job group or classification name, job title(s) (if appropriate), and census occupation code(s) for analysis
A11: Step 2: Enter the name of the geographical census areas to be included in the analysis
A12: Step 3: Enter the individual race/ethnicity and gender group availability from the census estimates for the specified geographical area and occupation code(s)
... A22: End of Instructions

Sheet User Notes
A1: Use this tab to create custom notes, instructions, etc. as desired

Sheet Availability Worksheet
A1: Individual Race/Ethnicity and Gender Availability Calculations
A2: Institution/ Department/ Division
A3: Job Group/ Classification:
A4: Job Title(s):
A5: Census Occupation Code(s):
A6: Table 1: Composite Availability Calculation - Race/ethnicity
A7: Recruitment Sources | B7: Census Recruitment Area / Occupation Codes | C7: Hispanic/ Latino | D7: Black/ African American | E7: White | F7: Asian | G7: American Indian/ Alaska Native | H7: Pacific Islander/ Native Hawaiian | I7: Total Historically Underrepresented Groups | J7: Weight | K7: Composite Availability | L7: Availability Percentage
A8: 1 | B8: Student Population (IPEDS data) | C8: 0.3 | D8: 0.12 | E8: 0.31 | F8: 0.25 | G8: 0.0005 | H8: 0.0008 | I8: =SUM(1-E8) -> 0.69 | J8: 0.2 | K8: Hispanic/Latino | L8: =SUM(C$8*$J$8)+(C$9*$J$9)+(C$10*$J$10)+(C$11*$J$11)+(C$12*$J$12)+(C$13*$J$13)+(C$14*$J$14)+(C$15*$J$15)+(C$16*$J$16)+(C$17*$J$17) -> 0.3145
A9: 2 | B9: Local Recruitment Area - (INSERT CENSUS AREA NAME) | C9: 0.38 | D9: 0.06 | E9: 0.25 | F9: 0.3 | G9: 0.0002 | H9: 0.0005 | I9: =SUM(1-E9) -> 0.75 | J9: 0.4 | K9: Black/African American | L9: =SUM(D$8*$J$8)+(D$9*$J$9)+(D$10*$J$10)+(D$11*$J$11)+(D$12*$J$12)+(D$13*$J$13)+(D$14*$J$14)+(D$15*$J$15)+(D$16*$J$16)+(D$17*$J$17) -> 0.0745
A10: 3 | B10: CA Statewide | C10: 0.25 | D10: 0.04 | E10: 0.53 | F10: 0.16 | G10: 0.0005 | H10: 0.0008 | I10: =SUM(1-E10) -> 0.47 | J10: 0.1 | K10: White | L10: =SUM(E$8*$J$8)+(E$9*$J$9)+(E$10*$J$10)+(E$11*$J$11)+(E$12*$J$12)+(E$13*$J$13)+(E$14*$J$14)+(E$15*$J$15)+(E$16*$J$16)+(E$17*$J$17) -> 0.3445
A11: 4 | B11: US National | C11: 0.2 | D11: 0.05 | E11: 0.59 | F11: 0.15 | G11: 0.0003 | H11: 0.0008 | I11: =SUM(1-E11) -> 0.41 | J11: 0.05 | K11: Asian | L11: =SUM(F$8*$J$8)+(F$9*$J$9)+(F$10*$J$10)+(F$11*$J$11)+(F$12*$J$12)+(F$13*$J$13)+(F$14*$J$14)+(F$15*$J$15)+(F$16*$J$16)+(F$17*$J$17) -> 0.2485
A12: 5 | B12: Advanced Degrees (prior 3 years) | C12: 0.27 | D12: 0.08 | E12: 0.4 | F12: 0.22 | G12: 0.0002 | H12: 0.0006 | I12: =SUM(1-E12) -> 0.6 | J12: 0.25 | K12: American Indian/Alaska Native | L12: =SUM(G$8*J$8)+(G$9*J$9)+(G$10*J$10)+(G$11*J$11)+(G$12*J$12)+(G$13*$J$13)+(G$14*$J$14)+(G$15*$J$15)+(G$16*$J$16)+(G$17*$J$17) -> 0.000295
A13: 6 | I13: =SUM(1-E13) -> 1 | K13: Pacific Islander/Native Hawaiian | L13: =SUM(H$8*J$8)+(H$9*J$9)+(H$10*J$10)+(H$11*J$11)+(H$12*J$12)+(H$13*$J$13)+(H$14*$J$14)+(H$15*$J$15)+(H$16*$J$16)+(H$17*$J$17) -> 0.00063
A14: 7 | I14: =SUM(1-E14) -> 1 | K14: Total Historically Underrepresented | L14: =SUM(I$8*J$8)+(I$9*J$9)+(I$10*J$10)+(I$11*J$11)+(I$12*J$12)+(I$13*$J$13)+(I$14*$J$14)+(I$15*$J$15)+(I$16*$J$16)+(I$17*$J$17) -> 0.6555
A15: 8 | I15: =SUM(1-E15) -> 1
A16: 9 | I16: =SUM(1-E16) -> 1
A17: 10 | I17: =SUM(1-E17) -> 1
A18: Table 2: Composite Availability Calculation - Gender
A19: Recruitment Sources | B19: Census Recruitment Area / Occupation Codes | C19: Female | D19: Male | E19: Weight | F19: Composite Availability | G19: Availability Percentage
A20: =A8 -> 1 | B20: =B8 -> Student Population (IPEDS data) | C20: 0.7 | D20: 0.3 | E20: =IFERROR(J8,"") -> 0.2 | F20: Females | G20: =SUM(C$20*$E$20)+(C$21*$E$21)+(C$22*$E$22)+(C$23*$E$23)+(C$24*$E$24)+(C$25*$E$25)+(C$26*$E$26)+(C$27*$E$27)+(C$28*$E$28)+(C$29*$E$29) -> 0.536
A21: =A9 -> 2 | B21: =B9 -> Local Recruitment Area - (INSERT CENSUS AREA NAME) | C21: 0.45 | D21: 0.55 | E21: =IFERROR(J9,"") -> 0.4 | F21: Males | G21: =SUM(D$20*$E$20)+(D$21*$E$21)+(D$22*$E$22)+(D$23*$E$23)+(D$24*$E$24)+(D$25*$E$25)+(D$26*$E$26)+(D$27*$E$27)+(D$28*$E$28)+(D$29*$E$29) -> 0.464
A22: =A10 -> 3 | B22: =B10 -> CA Statewide | C22: 0.48 | D22: 0.52 | E22: =IFERROR(J10,"") -> 0.1
A23: =A11 -> 4 | B23: =B11 -> US National | C23: 0.46 | D23: 0.54 | E23: =IFERROR(J11,"") -> 0.05
A24: =A12 -> 5 | B24: =B12 -> Advanced Degrees (prior 3 years) | C24: 0.58 | D24: 0.42 | E24: =IFERROR(J12,"") -> 0.25
A25: =A13 -> 6 | B25: =B13 -> 0 | E25: =IFERROR(J13,"") -> 0
A26: =A14 -> 7 | B26: =B14 -> 0 | E26: =IFERROR(J14,"") -> 0
A27: =A15 -> 8 | B27: =B15 -> 0 | E27: =IFERROR(J15,"") -> 0
A28: =A16 -> 9 | B28: =B16 -> 0 | E28: =IFERROR(J16,"") -> 0
A29: =A17 -> 10 | B29: =B17 -> 0 | E29: =IFERROR(J17,"") -> 0
A30: End of Availability Worksheet

Sheet Availability Analysis
A1: Individual Race Availability Analysis
A2: Company | B2: ='Availability Worksheet'!B2 -> 0
A3: Job Group: | B3: ='Availability Worksheet'!B3 -> 0
A4: Job Title(s): | B4: ='Availability Worksheet'!B4 -> 0
A5: Census Occupation Code(s): | B5: ='Availability Worksheet'!B5 -> 0
A6: Table 1: Underutilization Analysis by Race/ethnicity
A7: Race/ethnicity | B7: Job Group | C7: External Recruitment Area | D7: Total Job Group Employees | E7: Total Race/ethnicity Job Group Employees | F7: % of Race/Ethnicity Job Group Employees | G7: Race/ethnicity Availability | H7: Race/ethnicity Expected based on Availability | I7: Binomial Exact | J7: Standard Deviation (SD) | K7: SF | L7: Underutilization
A8: White | B8: ='Availability Worksheet'!$B3:$L3 -> 0 | C8: ='Availability Worksheet'!B8 -> Student Population (IPEDS data) | D8: 200 | E8: 100 | F8: =IFERROR(E8/D8,"") -> 0.5 | G8: ='Availability Worksheet'!L10 -> 0.3445 | H8: =G8*D8 -> 68.9 | I8: =_xlfn.BINOM.DIST(E8, D8, G8, TRUE) -> 0.99999776 | J8: =IFERROR((F8-G8)/((G8*(1-G8)/D8)^0.5),"") -> 4.6276918 | K8: =H8-E8 -> -31.1 | L8: =IFERROR(IF(J8<(-1.99), "Underutilized", ""),"")
A9: Black/ African American | B9: =$B$8 -> 0 | C9: ='Availability Worksheet'!B9 -> Local Recruitment Area - (INSERT CENSUS AREA NAME) | D9: =$D8 -> 200 | E9: 10 | F9: =IFERROR(E9/D9,"") -> 0.05 | G9: ='Availability Worksheet'!L9 -> 0.0745 | H9: =G9*D9 -> 14.9 | I9: =_xlfn.BINOM.DIST(E9, D9, G9, TRUE) -> 0.11403017 | J9: =IFERROR((F9-G9)/((G9*(1-G9)/D9)^0.5),"") -> -1.3195162 | K9: =H9-E9 -> 4.9 | L9: =IFERROR(IF(J9<(-1.99), "Underutilized", ""),"")
A10: Hispanic/ Latino | B10: =$B$8 -> 0 | C10: ='Availability Worksheet'!B10 -> CA Statewide | D10: =$D9 -> 200 | E10: 55 | F10: =IFERROR(E10/D10,"") -> 0.275 | G10: ='Availability Worksheet'!L8 -> 0.3145 | H10: =G10*D10 -> 62.9 | I10: =_xlfn.BINOM.DIST(E10, D10, G10, TRUE) -> 0.12927294 | J10: =IFERROR((F10-G10)/((G10*(1-G10)/D10)^0.5),"") -> -1.2030898 | K10: =H10-E10 -> 7.9 | L10: =IFERROR(IF(J10<(-1.99), "Underutilized", ""),"")
A11: Asian | B11: =$B$8 -> 0 | C11: ='Availability Worksheet'!B11 -> US National | D11: =$D10 -> 200 | E11: 30 | F11: =IFERROR(E11/D11,"") -> 0.15 | G11: ='Availability Worksheet'!L11 -> 0.2485 | H11: =G11*D11 -> 49.7 | I11: =_xlfn.BINOM.DIST(E11, D11, G11, TRUE) -> 0.00049037681 | J11: =IFERROR((F11-G11)/((G11*(1-G11)/D11)^0.5),"") -> -3.2234693 | K11: =H11-E11 -> 19.7 | L11: =IFERROR(IF(J11<(-1.99), "Underutilized", ""),"") -> Underutilized
A12: American Indian/ Alaska Native | B12: =$B$8 -> 0 | C12: ='Availability Worksheet'!B12 -> Advanced Degrees (prior 3 years) | D12: =$D11 -> 200 | E12: 1 | F12: =IFERROR(E12/D12,"") -> 0.005 | G12: ='Availability Worksheet'!L12 -> 0.000295 | H12: =G12*D12 -> 0.059 | I12: =_xlfn.BINOM.DIST(E12, D12, G12, TRUE) -> 0.99833419 | J12: =IFERROR((F12-G12)/((G12*(1-G12)/D12)^0.5),"") -> 3.8746072 | K12: =H12-E12 -> -0.941 | L12: =IFERROR(IF(J12<(-1.99), "Underutilized", ""),"")
A13: Pacific Islander/ Native Hawaiian | B13: =$B$8 -> 0 | C13: ='Availability Worksheet'!B13 -> 0 | D13: =$D12 -> 200 | E13: 4 | F13: =IFERROR(E13/D13,"") -> 0.02 | G13: ='Availability Worksheet'!L13 -> 0.00063 | H13: =G13*D13 -> 0.126 | I13: =_xlfn.BINOM.DIST(E13, D13, G13, TRUE) -> 0.99999977 | J13: =IFERROR((F13-G13)/((G13*(1-G13)/D13)^0.5),"") -> 10.917198 | K13: =H13-E13 -> -3.874 | L13: =IFERROR(IF(J13<(-1.99), "Underutilized", ""),"")
A14: Total Historically Underrepresented | B14: =$B$8 -> 0 | C14: ='Availability Worksheet'!B14 -> 0 | D14: =$D13 -> 200 | E14: =D8-E8 -> 100 | F14: =IFERROR(E14/D14,"") -> 0.5 | G14: ='Availability Worksheet'!L14 -> 0.6555 | H14: =G14*D14 -> 131.1 | I14: =_xlfn.BINOM.DIST(E14, D14, G14, TRUE) -> 4.3963157e-06 | J14: =IFERROR((F14-G14)/((G14*(1-G14)/D14)^0.5),"") -> -4.6276918 | K14: =H14-E14 -> 31.1 | L14: =IFERROR(IF(J14<(-1.99), "Underutilized", ""),"") -> Underutilized
A15: Table 2: Underutilization Analysis by Gender
A16: Gender | B16: Job Group | C16: External Recruitment Area | D16: Total Job Group Employees | E16: Total Gender Job Group Employees | F16: % of Gender Job Group Employees | G16: Gender Availability | H16: Gender Expected based on Availability | I16: Binomial Exact | J16: Standard Deviation (SD) | K16: SF | L16: Underutilization
A17: Females | B17: =B8 -> 0 | C17: See Race/ethnicity Table | D17: 200 | E17: 80 | F17: =IFERROR(E17/D17,"") -> 0.4 | G17: ='Availability Worksheet'!G20 -> 0.536 | H17: =G17*D17 -> 107.2 | I17: =_xlfn.BINOM.DIST(E17, D17, G17, TRUE) -> 7.7108005e-05 | J17: =IFERROR((F17-G17)/((G17*(1-G17)/D17)^0.5),"") -> -3.8566704 | K17: =H17-E17 -> 27.2 | L17: =IFERROR(IF(J17<(-1.99), "Underutilized", ""),"") -> Underutilized
A18: Males | B18: =$B$8 -> 0 | C18: See Race/ethnicity Table | D18: =D17 -> 200 | E18: 120 | F18: =IFERROR(E18/D18,"") -> 0.6 | G18: ='Availability Worksheet'!G21 -> 0.464 | H18: =G18*D18 -> 92.8 | I18: =_xlfn.BINOM.DIST(E18, D18, G18, TRUE) -> 0.99995694 | J18: =IFERROR((F18-G18)/((G18*(1-G18)/D18)^0.5),"") -> 3.8566704 | K18: =H18-E18 -> -27.2 | L18: =IFERROR(IF(J18<(-1.99), "Underutilized", ""),"")
A19: End of Availability Analysis
